BEGIN:VCALENDAR
VERSION:2.0
PRODID:-//World Impact Community Church - ECPv6.0.13.1//NONSGML v1.0//EN
CALSCALE:GREGORIAN
METHOD:PUBLISH
X-WR-CALNAME:World Impact Community Church
X-ORIGINAL-URL:https://www.wicc.co.in
X-WR-CALDESC:Events for World Impact Community Church
REFRESH-INTERVAL;VALUE=DURATION:PT1H
X-Robots-Tag:noindex
X-PUBLISHED-TTL:PT1H
BEGIN:VTIMEZONE
TZID:Asia/Kolkata
BEGIN:STANDARD
TZOFFSETFROM:+0530
TZOFFSETTO:+0530
TZNAME:IST
DTSTART:20290101T000000
END:STANDARD
END:VTIMEZONE
BEGIN:VEVENT
DTSTART;TZID=Asia/Kolkata:20290812T113000
DTEND;TZID=Asia/Kolkata:20290812T130000
DTSTAMP:20260422T021737
CREATED:20260325T044124Z
LAST-MODIFIED:20260325T044126Z
UID:10003892-1881228600-1881234000@www.wicc.co.in
SUMMARY:English Sunday Service
DESCRIPTION:Watch Now\n‎ \nJoin In-Person\n\n 
URL:https://www.wicc.co.in/event/english-sunday-service-2-2-2-2/2029-08-12/
LOCATION:World Impact Centre\, TC 10/1052/1\, World Impact Centre Chittoorkonam Road\, Mankaram\, PO\, Powdikonam\, Thiruvananthapuram\, Kerala\, 695588\, India
ATTACH;FMTTYPE=image/jpeg:https://www.wicc.co.in/wp-content/uploads/2023/03/eng.jpg
END:VEVENT
BEGIN:VEVENT
DTSTART;TZID=Asia/Kolkata:20290819T090000
DTEND;TZID=Asia/Kolkata:20290819T110000
DTSTAMP:20260422T021737
CREATED:20231225T083455Z
LAST-MODIFIED:20260221T034851Z
UID:10003969-1881824400-1881831600@www.wicc.co.in
SUMMARY:Malayalam Sunday Service
DESCRIPTION:Watch Now\n‎ \nJoin In-Person\n\n 
URL:https://www.wicc.co.in/event/malayalam-sunday-service-2-2/2029-08-19/
LOCATION:World Impact Centre\, TC 10/1052/1\, World Impact Centre Chittoorkonam Road\, Mankaram\, PO\, Powdikonam\, Thiruvananthapuram\, Kerala\, 695588\, India
ATTACH;FMTTYPE=image/jpeg:https://www.wicc.co.in/wp-content/uploads/2023/03/mal.jpg
END:VEVENT
BEGIN:VEVENT
DTSTART;TZID=Asia/Kolkata:20290819T113000
DTEND;TZID=Asia/Kolkata:20290819T130000
DTSTAMP:20260422T021737
CREATED:20260325T044124Z
LAST-MODIFIED:20260325T044126Z
UID:10003893-1881833400-1881838800@www.wicc.co.in
SUMMARY:English Sunday Service
DESCRIPTION:Watch Now\n‎ \nJoin In-Person\n\n 
URL:https://www.wicc.co.in/event/english-sunday-service-2-2-2-2/2029-08-19/
LOCATION:World Impact Centre\, TC 10/1052/1\, World Impact Centre Chittoorkonam Road\, Mankaram\, PO\, Powdikonam\, Thiruvananthapuram\, Kerala\, 695588\, India
ATTACH;FMTTYPE=image/jpeg:https://www.wicc.co.in/wp-content/uploads/2023/03/eng.jpg
END:VEVENT
BEGIN:VEVENT
DTSTART;TZID=Asia/Kolkata:20290826T090000
DTEND;TZID=Asia/Kolkata:20290826T110000
DTSTAMP:20260422T021737
CREATED:20231225T083455Z
LAST-MODIFIED:20260221T034851Z
UID:10003970-1882429200-1882436400@www.wicc.co.in
SUMMARY:Malayalam Sunday Service
DESCRIPTION:Watch Now\n‎ \nJoin In-Person\n\n 
URL:https://www.wicc.co.in/event/malayalam-sunday-service-2-2/2029-08-26/
LOCATION:World Impact Centre\, TC 10/1052/1\, World Impact Centre Chittoorkonam Road\, Mankaram\, PO\, Powdikonam\, Thiruvananthapuram\, Kerala\, 695588\, India
ATTACH;FMTTYPE=image/jpeg:https://www.wicc.co.in/wp-content/uploads/2023/03/mal.jpg
END:VEVENT
BEGIN:VEVENT
DTSTART;TZID=Asia/Kolkata:20290826T113000
DTEND;TZID=Asia/Kolkata:20290826T130000
DTSTAMP:20260422T021737
CREATED:20260325T044124Z
LAST-MODIFIED:20260325T044126Z
UID:10003894-1882438200-1882443600@www.wicc.co.in
SUMMARY:English Sunday Service
DESCRIPTION:Watch Now\n‎ \nJoin In-Person\n\n 
URL:https://www.wicc.co.in/event/english-sunday-service-2-2-2-2/2029-08-26/
LOCATION:World Impact Centre\, TC 10/1052/1\, World Impact Centre Chittoorkonam Road\, Mankaram\, PO\, Powdikonam\, Thiruvananthapuram\, Kerala\, 695588\, India
ATTACH;FMTTYPE=image/jpeg:https://www.wicc.co.in/wp-content/uploads/2023/03/eng.jpg
END:VEVENT
BEGIN:VEVENT
DTSTART;TZID=Asia/Kolkata:20290902T090000
DTEND;TZID=Asia/Kolkata:20290902T110000
DTSTAMP:20260422T021737
CREATED:20231225T083455Z
LAST-MODIFIED:20260221T034851Z
UID:10003971-1883034000-1883041200@www.wicc.co.in
SUMMARY:Malayalam Sunday Service
DESCRIPTION:Watch Now\n‎ \nJoin In-Person\n\n 
URL:https://www.wicc.co.in/event/malayalam-sunday-service-2-2/2029-09-02/
LOCATION:World Impact Centre\, TC 10/1052/1\, World Impact Centre Chittoorkonam Road\, Mankaram\, PO\, Powdikonam\, Thiruvananthapuram\, Kerala\, 695588\, India
ATTACH;FMTTYPE=image/jpeg:https://www.wicc.co.in/wp-content/uploads/2023/03/mal.jpg
END:VEVENT
BEGIN:VEVENT
DTSTART;TZID=Asia/Kolkata:20290902T113000
DTEND;TZID=Asia/Kolkata:20290902T130000
DTSTAMP:20260422T021737
CREATED:20260325T044124Z
LAST-MODIFIED:20260325T044126Z
UID:10003895-1883043000-1883048400@www.wicc.co.in
SUMMARY:English Sunday Service
DESCRIPTION:Watch Now\n‎ \nJoin In-Person\n\n 
URL:https://www.wicc.co.in/event/english-sunday-service-2-2-2-2/2029-09-02/
LOCATION:World Impact Centre\, TC 10/1052/1\, World Impact Centre Chittoorkonam Road\, Mankaram\, PO\, Powdikonam\, Thiruvananthapuram\, Kerala\, 695588\, India
ATTACH;FMTTYPE=image/jpeg:https://www.wicc.co.in/wp-content/uploads/2023/03/eng.jpg
END:VEVENT
BEGIN:VEVENT
DTSTART;TZID=Asia/Kolkata:20290909T090000
DTEND;TZID=Asia/Kolkata:20290909T110000
DTSTAMP:20260422T021737
CREATED:20231225T083455Z
LAST-MODIFIED:20260221T034851Z
UID:10003972-1883638800-1883646000@www.wicc.co.in
SUMMARY:Malayalam Sunday Service
DESCRIPTION:Watch Now\n‎ \nJoin In-Person\n\n 
URL:https://www.wicc.co.in/event/malayalam-sunday-service-2-2/2029-09-09/
LOCATION:World Impact Centre\, TC 10/1052/1\, World Impact Centre Chittoorkonam Road\, Mankaram\, PO\, Powdikonam\, Thiruvananthapuram\, Kerala\, 695588\, India
ATTACH;FMTTYPE=image/jpeg:https://www.wicc.co.in/wp-content/uploads/2023/03/mal.jpg
END:VEVENT
BEGIN:VEVENT
DTSTART;TZID=Asia/Kolkata:20290909T113000
DTEND;TZID=Asia/Kolkata:20290909T130000
DTSTAMP:20260422T021737
CREATED:20260325T044124Z
LAST-MODIFIED:20260325T044126Z
UID:10003896-1883647800-1883653200@www.wicc.co.in
SUMMARY:English Sunday Service
DESCRIPTION:Watch Now\n‎ \nJoin In-Person\n\n 
URL:https://www.wicc.co.in/event/english-sunday-service-2-2-2-2/2029-09-09/
LOCATION:World Impact Centre\, TC 10/1052/1\, World Impact Centre Chittoorkonam Road\, Mankaram\, PO\, Powdikonam\, Thiruvananthapuram\, Kerala\, 695588\, India
ATTACH;FMTTYPE=image/jpeg:https://www.wicc.co.in/wp-content/uploads/2023/03/eng.jpg
END:VEVENT
BEGIN:VEVENT
DTSTART;TZID=Asia/Kolkata:20290916T090000
DTEND;TZID=Asia/Kolkata:20290916T110000
DTSTAMP:20260422T021737
CREATED:20231225T083455Z
LAST-MODIFIED:20260221T034851Z
UID:10003973-1884243600-1884250800@www.wicc.co.in
SUMMARY:Malayalam Sunday Service
DESCRIPTION:Watch Now\n‎ \nJoin In-Person\n\n 
URL:https://www.wicc.co.in/event/malayalam-sunday-service-2-2/2029-09-16/
LOCATION:World Impact Centre\, TC 10/1052/1\, World Impact Centre Chittoorkonam Road\, Mankaram\, PO\, Powdikonam\, Thiruvananthapuram\, Kerala\, 695588\, India
ATTACH;FMTTYPE=image/jpeg:https://www.wicc.co.in/wp-content/uploads/2023/03/mal.jpg
END:VEVENT
BEGIN:VEVENT
DTSTART;TZID=Asia/Kolkata:20290916T113000
DTEND;TZID=Asia/Kolkata:20290916T130000
DTSTAMP:20260422T021737
CREATED:20260325T044124Z
LAST-MODIFIED:20260325T044126Z
UID:10003897-1884252600-1884258000@www.wicc.co.in
SUMMARY:English Sunday Service
DESCRIPTION:Watch Now\n‎ \nJoin In-Person\n\n 
URL:https://www.wicc.co.in/event/english-sunday-service-2-2-2-2/2029-09-16/
LOCATION:World Impact Centre\, TC 10/1052/1\, World Impact Centre Chittoorkonam Road\, Mankaram\, PO\, Powdikonam\, Thiruvananthapuram\, Kerala\, 695588\, India
ATTACH;FMTTYPE=image/jpeg:https://www.wicc.co.in/wp-content/uploads/2023/03/eng.jpg
END:VEVENT
BEGIN:VEVENT
DTSTART;TZID=Asia/Kolkata:20290923T090000
DTEND;TZID=Asia/Kolkata:20290923T110000
DTSTAMP:20260422T021737
CREATED:20231225T083455Z
LAST-MODIFIED:20260221T034851Z
UID:10003974-1884848400-1884855600@www.wicc.co.in
SUMMARY:Malayalam Sunday Service
DESCRIPTION:Watch Now\n‎ \nJoin In-Person\n\n 
URL:https://www.wicc.co.in/event/malayalam-sunday-service-2-2/2029-09-23/
LOCATION:World Impact Centre\, TC 10/1052/1\, World Impact Centre Chittoorkonam Road\, Mankaram\, PO\, Powdikonam\, Thiruvananthapuram\, Kerala\, 695588\, India
ATTACH;FMTTYPE=image/jpeg:https://www.wicc.co.in/wp-content/uploads/2023/03/mal.jpg
END:VEVENT
BEGIN:VEVENT
DTSTART;TZID=Asia/Kolkata:20290923T113000
DTEND;TZID=Asia/Kolkata:20290923T130000
DTSTAMP:20260422T021737
CREATED:20260325T044124Z
LAST-MODIFIED:20260325T044126Z
UID:10003898-1884857400-1884862800@www.wicc.co.in
SUMMARY:English Sunday Service
DESCRIPTION:Watch Now\n‎ \nJoin In-Person\n\n 
URL:https://www.wicc.co.in/event/english-sunday-service-2-2-2-2/2029-09-23/
LOCATION:World Impact Centre\, TC 10/1052/1\, World Impact Centre Chittoorkonam Road\, Mankaram\, PO\, Powdikonam\, Thiruvananthapuram\, Kerala\, 695588\, India
ATTACH;FMTTYPE=image/jpeg:https://www.wicc.co.in/wp-content/uploads/2023/03/eng.jpg
END:VEVENT
BEGIN:VEVENT
DTSTART;TZID=Asia/Kolkata:20290930T090000
DTEND;TZID=Asia/Kolkata:20290930T110000
DTSTAMP:20260422T021737
CREATED:20231225T083455Z
LAST-MODIFIED:20260221T034851Z
UID:10003975-1885453200-1885460400@www.wicc.co.in
SUMMARY:Malayalam Sunday Service
DESCRIPTION:Watch Now\n‎ \nJoin In-Person\n\n 
URL:https://www.wicc.co.in/event/malayalam-sunday-service-2-2/2029-09-30/
LOCATION:World Impact Centre\, TC 10/1052/1\, World Impact Centre Chittoorkonam Road\, Mankaram\, PO\, Powdikonam\, Thiruvananthapuram\, Kerala\, 695588\, India
ATTACH;FMTTYPE=image/jpeg:https://www.wicc.co.in/wp-content/uploads/2023/03/mal.jpg
END:VEVENT
BEGIN:VEVENT
DTSTART;TZID=Asia/Kolkata:20290930T113000
DTEND;TZID=Asia/Kolkata:20290930T130000
DTSTAMP:20260422T021737
CREATED:20260325T044124Z
LAST-MODIFIED:20260325T044126Z
UID:10003899-1885462200-1885467600@www.wicc.co.in
SUMMARY:English Sunday Service
DESCRIPTION:Watch Now\n‎ \nJoin In-Person\n\n 
URL:https://www.wicc.co.in/event/english-sunday-service-2-2-2-2/2029-09-30/
LOCATION:World Impact Centre\, TC 10/1052/1\, World Impact Centre Chittoorkonam Road\, Mankaram\, PO\, Powdikonam\, Thiruvananthapuram\, Kerala\, 695588\, India
ATTACH;FMTTYPE=image/jpeg:https://www.wicc.co.in/wp-content/uploads/2023/03/eng.jpg
END:VEVENT
BEGIN:VEVENT
DTSTART;TZID=Asia/Kolkata:20291007T090000
DTEND;TZID=Asia/Kolkata:20291007T110000
DTSTAMP:20260422T021737
CREATED:20231225T083455Z
LAST-MODIFIED:20260221T034851Z
UID:10003976-1886058000-1886065200@www.wicc.co.in
SUMMARY:Malayalam Sunday Service
DESCRIPTION:Watch Now\n‎ \nJoin In-Person\n\n 
URL:https://www.wicc.co.in/event/malayalam-sunday-service-2-2/2029-10-07/
LOCATION:World Impact Centre\, TC 10/1052/1\, World Impact Centre Chittoorkonam Road\, Mankaram\, PO\, Powdikonam\, Thiruvananthapuram\, Kerala\, 695588\, India
ATTACH;FMTTYPE=image/jpeg:https://www.wicc.co.in/wp-content/uploads/2023/03/mal.jpg
END:VEVENT
BEGIN:VEVENT
DTSTART;TZID=Asia/Kolkata:20291007T113000
DTEND;TZID=Asia/Kolkata:20291007T130000
DTSTAMP:20260422T021737
CREATED:20260325T044124Z
LAST-MODIFIED:20260325T044126Z
UID:10003900-1886067000-1886072400@www.wicc.co.in
SUMMARY:English Sunday Service
DESCRIPTION:Watch Now\n‎ \nJoin In-Person\n\n 
URL:https://www.wicc.co.in/event/english-sunday-service-2-2-2-2/2029-10-07/
LOCATION:World Impact Centre\, TC 10/1052/1\, World Impact Centre Chittoorkonam Road\, Mankaram\, PO\, Powdikonam\, Thiruvananthapuram\, Kerala\, 695588\, India
ATTACH;FMTTYPE=image/jpeg:https://www.wicc.co.in/wp-content/uploads/2023/03/eng.jpg
END:VEVENT
BEGIN:VEVENT
DTSTART;TZID=Asia/Kolkata:20291014T090000
DTEND;TZID=Asia/Kolkata:20291014T110000
DTSTAMP:20260422T021737
CREATED:20231225T083455Z
LAST-MODIFIED:20260221T034851Z
UID:10003977-1886662800-1886670000@www.wicc.co.in
SUMMARY:Malayalam Sunday Service
DESCRIPTION:Watch Now\n‎ \nJoin In-Person\n\n 
URL:https://www.wicc.co.in/event/malayalam-sunday-service-2-2/2029-10-14/
LOCATION:World Impact Centre\, TC 10/1052/1\, World Impact Centre Chittoorkonam Road\, Mankaram\, PO\, Powdikonam\, Thiruvananthapuram\, Kerala\, 695588\, India
ATTACH;FMTTYPE=image/jpeg:https://www.wicc.co.in/wp-content/uploads/2023/03/mal.jpg
END:VEVENT
BEGIN:VEVENT
DTSTART;TZID=Asia/Kolkata:20291014T113000
DTEND;TZID=Asia/Kolkata:20291014T130000
DTSTAMP:20260422T021737
CREATED:20260325T044124Z
LAST-MODIFIED:20260325T044126Z
UID:10003901-1886671800-1886677200@www.wicc.co.in
SUMMARY:English Sunday Service
DESCRIPTION:Watch Now\n‎ \nJoin In-Person\n\n 
URL:https://www.wicc.co.in/event/english-sunday-service-2-2-2-2/2029-10-14/
LOCATION:World Impact Centre\, TC 10/1052/1\, World Impact Centre Chittoorkonam Road\, Mankaram\, PO\, Powdikonam\, Thiruvananthapuram\, Kerala\, 695588\, India
ATTACH;FMTTYPE=image/jpeg:https://www.wicc.co.in/wp-content/uploads/2023/03/eng.jpg
END:VEVENT
BEGIN:VEVENT
DTSTART;TZID=Asia/Kolkata:20291021T090000
DTEND;TZID=Asia/Kolkata:20291021T110000
DTSTAMP:20260422T021737
CREATED:20231225T083455Z
LAST-MODIFIED:20260221T034851Z
UID:10003978-1887267600-1887274800@www.wicc.co.in
SUMMARY:Malayalam Sunday Service
DESCRIPTION:Watch Now\n‎ \nJoin In-Person\n\n 
URL:https://www.wicc.co.in/event/malayalam-sunday-service-2-2/2029-10-21/
LOCATION:World Impact Centre\, TC 10/1052/1\, World Impact Centre Chittoorkonam Road\, Mankaram\, PO\, Powdikonam\, Thiruvananthapuram\, Kerala\, 695588\, India
ATTACH;FMTTYPE=image/jpeg:https://www.wicc.co.in/wp-content/uploads/2023/03/mal.jpg
END:VEVENT
BEGIN:VEVENT
DTSTART;TZID=Asia/Kolkata:20291021T113000
DTEND;TZID=Asia/Kolkata:20291021T130000
DTSTAMP:20260422T021737
CREATED:20260325T044124Z
LAST-MODIFIED:20260325T044126Z
UID:10003902-1887276600-1887282000@www.wicc.co.in
SUMMARY:English Sunday Service
DESCRIPTION:Watch Now\n‎ \nJoin In-Person\n\n 
URL:https://www.wicc.co.in/event/english-sunday-service-2-2-2-2/2029-10-21/
LOCATION:World Impact Centre\, TC 10/1052/1\, World Impact Centre Chittoorkonam Road\, Mankaram\, PO\, Powdikonam\, Thiruvananthapuram\, Kerala\, 695588\, India
ATTACH;FMTTYPE=image/jpeg:https://www.wicc.co.in/wp-content/uploads/2023/03/eng.jpg
END:VEVENT
BEGIN:VEVENT
DTSTART;TZID=Asia/Kolkata:20291028T090000
DTEND;TZID=Asia/Kolkata:20291028T110000
DTSTAMP:20260422T021737
CREATED:20231225T083455Z
LAST-MODIFIED:20260221T034851Z
UID:10003979-1887872400-1887879600@www.wicc.co.in
SUMMARY:Malayalam Sunday Service
DESCRIPTION:Watch Now\n‎ \nJoin In-Person\n\n 
URL:https://www.wicc.co.in/event/malayalam-sunday-service-2-2/2029-10-28/
LOCATION:World Impact Centre\, TC 10/1052/1\, World Impact Centre Chittoorkonam Road\, Mankaram\, PO\, Powdikonam\, Thiruvananthapuram\, Kerala\, 695588\, India
ATTACH;FMTTYPE=image/jpeg:https://www.wicc.co.in/wp-content/uploads/2023/03/mal.jpg
END:VEVENT
BEGIN:VEVENT
DTSTART;TZID=Asia/Kolkata:20291028T113000
DTEND;TZID=Asia/Kolkata:20291028T130000
DTSTAMP:20260422T021737
CREATED:20260325T044124Z
LAST-MODIFIED:20260325T044126Z
UID:10003903-1887881400-1887886800@www.wicc.co.in
SUMMARY:English Sunday Service
DESCRIPTION:Watch Now\n‎ \nJoin In-Person\n\n 
URL:https://www.wicc.co.in/event/english-sunday-service-2-2-2-2/2029-10-28/
LOCATION:World Impact Centre\, TC 10/1052/1\, World Impact Centre Chittoorkonam Road\, Mankaram\, PO\, Powdikonam\, Thiruvananthapuram\, Kerala\, 695588\, India
ATTACH;FMTTYPE=image/jpeg:https://www.wicc.co.in/wp-content/uploads/2023/03/eng.jpg
END:VEVENT
BEGIN:VEVENT
DTSTART;TZID=Asia/Kolkata:20291104T090000
DTEND;TZID=Asia/Kolkata:20291104T110000
DTSTAMP:20260422T021737
CREATED:20231225T083455Z
LAST-MODIFIED:20260221T034851Z
UID:10003980-1888477200-1888484400@www.wicc.co.in
SUMMARY:Malayalam Sunday Service
DESCRIPTION:Watch Now\n‎ \nJoin In-Person\n\n 
URL:https://www.wicc.co.in/event/malayalam-sunday-service-2-2/2029-11-04/
LOCATION:World Impact Centre\, TC 10/1052/1\, World Impact Centre Chittoorkonam Road\, Mankaram\, PO\, Powdikonam\, Thiruvananthapuram\, Kerala\, 695588\, India
ATTACH;FMTTYPE=image/jpeg:https://www.wicc.co.in/wp-content/uploads/2023/03/mal.jpg
END:VEVENT
BEGIN:VEVENT
DTSTART;TZID=Asia/Kolkata:20291104T113000
DTEND;TZID=Asia/Kolkata:20291104T130000
DTSTAMP:20260422T021737
CREATED:20260325T044124Z
LAST-MODIFIED:20260325T044126Z
UID:10003904-1888486200-1888491600@www.wicc.co.in
SUMMARY:English Sunday Service
DESCRIPTION:Watch Now\n‎ \nJoin In-Person\n\n 
URL:https://www.wicc.co.in/event/english-sunday-service-2-2-2-2/2029-11-04/
LOCATION:World Impact Centre\, TC 10/1052/1\, World Impact Centre Chittoorkonam Road\, Mankaram\, PO\, Powdikonam\, Thiruvananthapuram\, Kerala\, 695588\, India
ATTACH;FMTTYPE=image/jpeg:https://www.wicc.co.in/wp-content/uploads/2023/03/eng.jpg
END:VEVENT
BEGIN:VEVENT
DTSTART;TZID=Asia/Kolkata:20291111T090000
DTEND;TZID=Asia/Kolkata:20291111T110000
DTSTAMP:20260422T021737
CREATED:20231225T083455Z
LAST-MODIFIED:20260221T034851Z
UID:10003981-1889082000-1889089200@www.wicc.co.in
SUMMARY:Malayalam Sunday Service
DESCRIPTION:Watch Now\n‎ \nJoin In-Person\n\n 
URL:https://www.wicc.co.in/event/malayalam-sunday-service-2-2/2029-11-11/
LOCATION:World Impact Centre\, TC 10/1052/1\, World Impact Centre Chittoorkonam Road\, Mankaram\, PO\, Powdikonam\, Thiruvananthapuram\, Kerala\, 695588\, India
ATTACH;FMTTYPE=image/jpeg:https://www.wicc.co.in/wp-content/uploads/2023/03/mal.jpg
END:VEVENT
BEGIN:VEVENT
DTSTART;TZID=Asia/Kolkata:20291111T113000
DTEND;TZID=Asia/Kolkata:20291111T130000
DTSTAMP:20260422T021737
CREATED:20260325T044124Z
LAST-MODIFIED:20260325T044126Z
UID:10003905-1889091000-1889096400@www.wicc.co.in
SUMMARY:English Sunday Service
DESCRIPTION:Watch Now\n‎ \nJoin In-Person\n\n 
URL:https://www.wicc.co.in/event/english-sunday-service-2-2-2-2/2029-11-11/
LOCATION:World Impact Centre\, TC 10/1052/1\, World Impact Centre Chittoorkonam Road\, Mankaram\, PO\, Powdikonam\, Thiruvananthapuram\, Kerala\, 695588\, India
ATTACH;FMTTYPE=image/jpeg:https://www.wicc.co.in/wp-content/uploads/2023/03/eng.jpg
END:VEVENT
BEGIN:VEVENT
DTSTART;TZID=Asia/Kolkata:20291118T090000
DTEND;TZID=Asia/Kolkata:20291118T110000
DTSTAMP:20260422T021737
CREATED:20231225T083455Z
LAST-MODIFIED:20260221T034851Z
UID:10003982-1889686800-1889694000@www.wicc.co.in
SUMMARY:Malayalam Sunday Service
DESCRIPTION:Watch Now\n‎ \nJoin In-Person\n\n 
URL:https://www.wicc.co.in/event/malayalam-sunday-service-2-2/2029-11-18/
LOCATION:World Impact Centre\, TC 10/1052/1\, World Impact Centre Chittoorkonam Road\, Mankaram\, PO\, Powdikonam\, Thiruvananthapuram\, Kerala\, 695588\, India
ATTACH;FMTTYPE=image/jpeg:https://www.wicc.co.in/wp-content/uploads/2023/03/mal.jpg
END:VEVENT
BEGIN:VEVENT
DTSTART;TZID=Asia/Kolkata:20291118T113000
DTEND;TZID=Asia/Kolkata:20291118T130000
DTSTAMP:20260422T021737
CREATED:20260325T044124Z
LAST-MODIFIED:20260325T044126Z
UID:10003906-1889695800-1889701200@www.wicc.co.in
SUMMARY:English Sunday Service
DESCRIPTION:Watch Now\n‎ \nJoin In-Person\n\n 
URL:https://www.wicc.co.in/event/english-sunday-service-2-2-2-2/2029-11-18/
LOCATION:World Impact Centre\, TC 10/1052/1\, World Impact Centre Chittoorkonam Road\, Mankaram\, PO\, Powdikonam\, Thiruvananthapuram\, Kerala\, 695588\, India
ATTACH;FMTTYPE=image/jpeg:https://www.wicc.co.in/wp-content/uploads/2023/03/eng.jpg
END:VEVENT
BEGIN:VEVENT
DTSTART;TZID=Asia/Kolkata:20291125T090000
DTEND;TZID=Asia/Kolkata:20291125T110000
DTSTAMP:20260422T021737
CREATED:20231225T083455Z
LAST-MODIFIED:20260221T034851Z
UID:10003983-1890291600-1890298800@www.wicc.co.in
SUMMARY:Malayalam Sunday Service
DESCRIPTION:Watch Now\n‎ \nJoin In-Person\n\n 
URL:https://www.wicc.co.in/event/malayalam-sunday-service-2-2/2029-11-25/
LOCATION:World Impact Centre\, TC 10/1052/1\, World Impact Centre Chittoorkonam Road\, Mankaram\, PO\, Powdikonam\, Thiruvananthapuram\, Kerala\, 695588\, India
ATTACH;FMTTYPE=image/jpeg:https://www.wicc.co.in/wp-content/uploads/2023/03/mal.jpg
END:VEVENT
END:VCALENDAR