BEGIN:VCALENDAR
VERSION:2.0
PRODID:-//World Impact Community Church - ECPv6.0.13.1//NONSGML v1.0//EN
CALSCALE:GREGORIAN
METHOD:PUBLISH
X-WR-CALNAME:World Impact Community Church
X-ORIGINAL-URL:https://www.wicc.co.in
X-WR-CALDESC:Events for World Impact Community Church
REFRESH-INTERVAL;VALUE=DURATION:PT1H
X-Robots-Tag:noindex
X-PUBLISHED-TTL:PT1H
BEGIN:VTIMEZONE
TZID:Asia/Kolkata
BEGIN:STANDARD
TZOFFSETFROM:+0530
TZOFFSETTO:+0530
TZNAME:IST
DTSTART:20290101T000000
END:STANDARD
END:VTIMEZONE
BEGIN:VEVENT
DTSTART;TZID=Asia/Kolkata:20290115T060000
DTEND;TZID=Asia/Kolkata:20290115T070000
DTSTAMP:20260420T211356
CREATED:20231214T095750Z
LAST-MODIFIED:20240215T054126Z
UID:10003860-1863151200-1863154800@www.wicc.co.in
SUMMARY:Praying Warriors (Men's Intercession)
DESCRIPTION:Men’s Intercession\nEvery Monday \nJoin Zoom Meeting\nhttps://us06web.zoom.us/j/85914714467?pwd=gX651wdGI1TX6Qy7vmUCBcyiiDnZ7w.1 \nMeeting ID: 822 8931 2373\nPasscode: 610675
URL:https://www.wicc.co.in/event/praying-warriors-2/2029-01-15/
LOCATION:Kerala
ATTACH;FMTTYPE=image/jpeg:https://www.wicc.co.in/wp-content/uploads/2023/04/modern-man-magazine-cover.jpg
END:VEVENT
BEGIN:VEVENT
DTSTART;TZID=Asia/Kolkata:20290116T070000
DTEND;TZID=Asia/Kolkata:20290116T080000
DTSTAMP:20260420T211356
CREATED:20230412T044657Z
LAST-MODIFIED:20240215T052319Z
UID:10003812-1863241200-1863244800@www.wicc.co.in
SUMMARY:The Morning Watch
DESCRIPTION:The Morning Watch: A Morning Prayer Time\nEvery Tuesday @ 7AM \nJoin Zoom Meeting\nhttps://us06web.zoom.us/j/89828357076?pwd=giHZTJJmaGjFZSiuNoB62CT9eExRMb.1 \nMeeting ID: 898 2835 7076\nPasscode: 157202
URL:https://www.wicc.co.in/event/the-morning-watch/2029-01-16/
LOCATION:Kerala
ATTACH;FMTTYPE=image/jpeg:https://www.wicc.co.in/wp-content/uploads/2023/05/THE-MORNING-WATCH.jpg
END:VEVENT
BEGIN:VEVENT
DTSTART;TZID=Asia/Kolkata:20290119T110000
DTEND;TZID=Asia/Kolkata:20290119T120000
DTSTAMP:20260420T211356
CREATED:20230517T102748Z
LAST-MODIFIED:20240215T052654Z
UID:10003852-1863514800-1863518400@www.wicc.co.in
SUMMARY:Hour Of Awakening
DESCRIPTION:Join Zoom Meeting\nhttps://us06web.zoom.us/j/86562212297?pwd=9dIbU3spGafM9jRrVVg7KAq2fXP6ZE.1 \nMeeting ID: 834 1176 7290\nPasscode:141146
URL:https://www.wicc.co.in/event/hour-of-awakening/2029-01-19/
LOCATION:World Impact Centre\, TC 10/1052/1\, World Impact Centre Chittoorkonam Road\, Mankaram\, PO\, Powdikonam\, Thiruvananthapuram\, Kerala\, 695588\, India
ATTACH;FMTTYPE=image/jpeg:https://www.wicc.co.in/wp-content/uploads/2023/05/Hour-Of-Awakening.jpg
END:VEVENT
BEGIN:VEVENT
DTSTART;TZID=Asia/Kolkata:20290121T090000
DTEND;TZID=Asia/Kolkata:20290121T110000
DTSTAMP:20260420T211356
CREATED:20231225T083455Z
LAST-MODIFIED:20260221T034851Z
UID:10003771-1863680400-1863687600@www.wicc.co.in
SUMMARY:Malayalam Sunday Service
DESCRIPTION:Watch Now\n‎ \nJoin In-Person\n\n 
URL:https://www.wicc.co.in/event/malayalam-sunday-service-2-2/2029-01-21/
LOCATION:World Impact Centre\, TC 10/1052/1\, World Impact Centre Chittoorkonam Road\, Mankaram\, PO\, Powdikonam\, Thiruvananthapuram\, Kerala\, 695588\, India
ATTACH;FMTTYPE=image/jpeg:https://www.wicc.co.in/wp-content/uploads/2023/03/mal.jpg
END:VEVENT
BEGIN:VEVENT
DTSTART;TZID=Asia/Kolkata:20290121T113000
DTEND;TZID=Asia/Kolkata:20290121T130000
DTSTAMP:20260420T211356
CREATED:20260325T044124Z
LAST-MODIFIED:20260325T044126Z
UID:10003765-1863689400-1863694800@www.wicc.co.in
SUMMARY:English Sunday Service
DESCRIPTION:Watch Now\n‎ \nJoin In-Person\n\n 
URL:https://www.wicc.co.in/event/english-sunday-service-2-2-2-2/2029-01-21/
LOCATION:World Impact Centre\, TC 10/1052/1\, World Impact Centre Chittoorkonam Road\, Mankaram\, PO\, Powdikonam\, Thiruvananthapuram\, Kerala\, 695588\, India
ATTACH;FMTTYPE=image/jpeg:https://www.wicc.co.in/wp-content/uploads/2023/03/eng.jpg
END:VEVENT
BEGIN:VEVENT
DTSTART;TZID=Asia/Kolkata:20290122T060000
DTEND;TZID=Asia/Kolkata:20290122T070000
DTSTAMP:20260420T211356
CREATED:20231214T095750Z
LAST-MODIFIED:20240215T054126Z
UID:10003861-1863756000-1863759600@www.wicc.co.in
SUMMARY:Praying Warriors (Men's Intercession)
DESCRIPTION:Men’s Intercession\nEvery Monday \nJoin Zoom Meeting\nhttps://us06web.zoom.us/j/85914714467?pwd=gX651wdGI1TX6Qy7vmUCBcyiiDnZ7w.1 \nMeeting ID: 822 8931 2373\nPasscode: 610675
URL:https://www.wicc.co.in/event/praying-warriors-2/2029-01-22/
LOCATION:Kerala
ATTACH;FMTTYPE=image/jpeg:https://www.wicc.co.in/wp-content/uploads/2023/04/modern-man-magazine-cover.jpg
END:VEVENT
BEGIN:VEVENT
DTSTART;TZID=Asia/Kolkata:20290123T070000
DTEND;TZID=Asia/Kolkata:20290123T080000
DTSTAMP:20260420T211356
CREATED:20230412T044657Z
LAST-MODIFIED:20240215T052319Z
UID:10003813-1863846000-1863849600@www.wicc.co.in
SUMMARY:The Morning Watch
DESCRIPTION:The Morning Watch: A Morning Prayer Time\nEvery Tuesday @ 7AM \nJoin Zoom Meeting\nhttps://us06web.zoom.us/j/89828357076?pwd=giHZTJJmaGjFZSiuNoB62CT9eExRMb.1 \nMeeting ID: 898 2835 7076\nPasscode: 157202
URL:https://www.wicc.co.in/event/the-morning-watch/2029-01-23/
LOCATION:Kerala
ATTACH;FMTTYPE=image/jpeg:https://www.wicc.co.in/wp-content/uploads/2023/05/THE-MORNING-WATCH.jpg
END:VEVENT
BEGIN:VEVENT
DTSTART;TZID=Asia/Kolkata:20290126T110000
DTEND;TZID=Asia/Kolkata:20290126T120000
DTSTAMP:20260420T211356
CREATED:20230517T102748Z
LAST-MODIFIED:20240215T052654Z
UID:10003853-1864119600-1864123200@www.wicc.co.in
SUMMARY:Hour Of Awakening
DESCRIPTION:Join Zoom Meeting\nhttps://us06web.zoom.us/j/86562212297?pwd=9dIbU3spGafM9jRrVVg7KAq2fXP6ZE.1 \nMeeting ID: 834 1176 7290\nPasscode:141146
URL:https://www.wicc.co.in/event/hour-of-awakening/2029-01-26/
LOCATION:World Impact Centre\, TC 10/1052/1\, World Impact Centre Chittoorkonam Road\, Mankaram\, PO\, Powdikonam\, Thiruvananthapuram\, Kerala\, 695588\, India
ATTACH;FMTTYPE=image/jpeg:https://www.wicc.co.in/wp-content/uploads/2023/05/Hour-Of-Awakening.jpg
END:VEVENT
BEGIN:VEVENT
DTSTART;TZID=Asia/Kolkata:20290128T090000
DTEND;TZID=Asia/Kolkata:20290128T110000
DTSTAMP:20260420T211356
CREATED:20231225T083455Z
LAST-MODIFIED:20260221T034851Z
UID:10003772-1864285200-1864292400@www.wicc.co.in
SUMMARY:Malayalam Sunday Service
DESCRIPTION:Watch Now\n‎ \nJoin In-Person\n\n 
URL:https://www.wicc.co.in/event/malayalam-sunday-service-2-2/2029-01-28/
LOCATION:World Impact Centre\, TC 10/1052/1\, World Impact Centre Chittoorkonam Road\, Mankaram\, PO\, Powdikonam\, Thiruvananthapuram\, Kerala\, 695588\, India
ATTACH;FMTTYPE=image/jpeg:https://www.wicc.co.in/wp-content/uploads/2023/03/mal.jpg
END:VEVENT
BEGIN:VEVENT
DTSTART;TZID=Asia/Kolkata:20290128T113000
DTEND;TZID=Asia/Kolkata:20290128T130000
DTSTAMP:20260420T211356
CREATED:20260325T044124Z
LAST-MODIFIED:20260325T044126Z
UID:10003766-1864294200-1864299600@www.wicc.co.in
SUMMARY:English Sunday Service
DESCRIPTION:Watch Now\n‎ \nJoin In-Person\n\n 
URL:https://www.wicc.co.in/event/english-sunday-service-2-2-2-2/2029-01-28/
LOCATION:World Impact Centre\, TC 10/1052/1\, World Impact Centre Chittoorkonam Road\, Mankaram\, PO\, Powdikonam\, Thiruvananthapuram\, Kerala\, 695588\, India
ATTACH;FMTTYPE=image/jpeg:https://www.wicc.co.in/wp-content/uploads/2023/03/eng.jpg
END:VEVENT
BEGIN:VEVENT
DTSTART;TZID=Asia/Kolkata:20290129T060000
DTEND;TZID=Asia/Kolkata:20290129T070000
DTSTAMP:20260420T211356
CREATED:20231214T095750Z
LAST-MODIFIED:20240215T054126Z
UID:10003862-1864360800-1864364400@www.wicc.co.in
SUMMARY:Praying Warriors (Men's Intercession)
DESCRIPTION:Men’s Intercession\nEvery Monday \nJoin Zoom Meeting\nhttps://us06web.zoom.us/j/85914714467?pwd=gX651wdGI1TX6Qy7vmUCBcyiiDnZ7w.1 \nMeeting ID: 822 8931 2373\nPasscode: 610675
URL:https://www.wicc.co.in/event/praying-warriors-2/2029-01-29/
LOCATION:Kerala
ATTACH;FMTTYPE=image/jpeg:https://www.wicc.co.in/wp-content/uploads/2023/04/modern-man-magazine-cover.jpg
END:VEVENT
BEGIN:VEVENT
DTSTART;TZID=Asia/Kolkata:20290130T070000
DTEND;TZID=Asia/Kolkata:20290130T080000
DTSTAMP:20260420T211356
CREATED:20230412T044657Z
LAST-MODIFIED:20240215T052319Z
UID:10003814-1864450800-1864454400@www.wicc.co.in
SUMMARY:The Morning Watch
DESCRIPTION:The Morning Watch: A Morning Prayer Time\nEvery Tuesday @ 7AM \nJoin Zoom Meeting\nhttps://us06web.zoom.us/j/89828357076?pwd=giHZTJJmaGjFZSiuNoB62CT9eExRMb.1 \nMeeting ID: 898 2835 7076\nPasscode: 157202
URL:https://www.wicc.co.in/event/the-morning-watch/2029-01-30/
LOCATION:Kerala
ATTACH;FMTTYPE=image/jpeg:https://www.wicc.co.in/wp-content/uploads/2023/05/THE-MORNING-WATCH.jpg
END:VEVENT
BEGIN:VEVENT
DTSTART;TZID=Asia/Kolkata:20290202T110000
DTEND;TZID=Asia/Kolkata:20290202T120000
DTSTAMP:20260420T211356
CREATED:20230517T102748Z
LAST-MODIFIED:20240215T052654Z
UID:10003854-1864724400-1864728000@www.wicc.co.in
SUMMARY:Hour Of Awakening
DESCRIPTION:Join Zoom Meeting\nhttps://us06web.zoom.us/j/86562212297?pwd=9dIbU3spGafM9jRrVVg7KAq2fXP6ZE.1 \nMeeting ID: 834 1176 7290\nPasscode:141146
URL:https://www.wicc.co.in/event/hour-of-awakening/2029-02-02/
LOCATION:World Impact Centre\, TC 10/1052/1\, World Impact Centre Chittoorkonam Road\, Mankaram\, PO\, Powdikonam\, Thiruvananthapuram\, Kerala\, 695588\, India
ATTACH;FMTTYPE=image/jpeg:https://www.wicc.co.in/wp-content/uploads/2023/05/Hour-Of-Awakening.jpg
END:VEVENT
BEGIN:VEVENT
DTSTART;TZID=Asia/Kolkata:20290204T090000
DTEND;TZID=Asia/Kolkata:20290204T110000
DTSTAMP:20260420T211356
CREATED:20231225T083455Z
LAST-MODIFIED:20260221T034851Z
UID:10003773-1864890000-1864897200@www.wicc.co.in
SUMMARY:Malayalam Sunday Service
DESCRIPTION:Watch Now\n‎ \nJoin In-Person\n\n 
URL:https://www.wicc.co.in/event/malayalam-sunday-service-2-2/2029-02-04/
LOCATION:World Impact Centre\, TC 10/1052/1\, World Impact Centre Chittoorkonam Road\, Mankaram\, PO\, Powdikonam\, Thiruvananthapuram\, Kerala\, 695588\, India
ATTACH;FMTTYPE=image/jpeg:https://www.wicc.co.in/wp-content/uploads/2023/03/mal.jpg
END:VEVENT
BEGIN:VEVENT
DTSTART;TZID=Asia/Kolkata:20290204T113000
DTEND;TZID=Asia/Kolkata:20290204T130000
DTSTAMP:20260420T211356
CREATED:20260325T044124Z
LAST-MODIFIED:20260325T044126Z
UID:10003767-1864899000-1864904400@www.wicc.co.in
SUMMARY:English Sunday Service
DESCRIPTION:Watch Now\n‎ \nJoin In-Person\n\n 
URL:https://www.wicc.co.in/event/english-sunday-service-2-2-2-2/2029-02-04/
LOCATION:World Impact Centre\, TC 10/1052/1\, World Impact Centre Chittoorkonam Road\, Mankaram\, PO\, Powdikonam\, Thiruvananthapuram\, Kerala\, 695588\, India
ATTACH;FMTTYPE=image/jpeg:https://www.wicc.co.in/wp-content/uploads/2023/03/eng.jpg
END:VEVENT
BEGIN:VEVENT
DTSTART;TZID=Asia/Kolkata:20290205T060000
DTEND;TZID=Asia/Kolkata:20290205T070000
DTSTAMP:20260420T211356
CREATED:20231214T095750Z
LAST-MODIFIED:20240215T054126Z
UID:10003863-1864965600-1864969200@www.wicc.co.in
SUMMARY:Praying Warriors (Men's Intercession)
DESCRIPTION:Men’s Intercession\nEvery Monday \nJoin Zoom Meeting\nhttps://us06web.zoom.us/j/85914714467?pwd=gX651wdGI1TX6Qy7vmUCBcyiiDnZ7w.1 \nMeeting ID: 822 8931 2373\nPasscode: 610675
URL:https://www.wicc.co.in/event/praying-warriors-2/2029-02-05/
LOCATION:Kerala
ATTACH;FMTTYPE=image/jpeg:https://www.wicc.co.in/wp-content/uploads/2023/04/modern-man-magazine-cover.jpg
END:VEVENT
BEGIN:VEVENT
DTSTART;TZID=Asia/Kolkata:20290206T070000
DTEND;TZID=Asia/Kolkata:20290206T080000
DTSTAMP:20260420T211356
CREATED:20230412T044657Z
LAST-MODIFIED:20240215T052319Z
UID:10003815-1865055600-1865059200@www.wicc.co.in
SUMMARY:The Morning Watch
DESCRIPTION:The Morning Watch: A Morning Prayer Time\nEvery Tuesday @ 7AM \nJoin Zoom Meeting\nhttps://us06web.zoom.us/j/89828357076?pwd=giHZTJJmaGjFZSiuNoB62CT9eExRMb.1 \nMeeting ID: 898 2835 7076\nPasscode: 157202
URL:https://www.wicc.co.in/event/the-morning-watch/2029-02-06/
LOCATION:Kerala
ATTACH;FMTTYPE=image/jpeg:https://www.wicc.co.in/wp-content/uploads/2023/05/THE-MORNING-WATCH.jpg
END:VEVENT
BEGIN:VEVENT
DTSTART;TZID=Asia/Kolkata:20290209T110000
DTEND;TZID=Asia/Kolkata:20290209T120000
DTSTAMP:20260420T211356
CREATED:20230517T102748Z
LAST-MODIFIED:20240215T052654Z
UID:10003855-1865329200-1865332800@www.wicc.co.in
SUMMARY:Hour Of Awakening
DESCRIPTION:Join Zoom Meeting\nhttps://us06web.zoom.us/j/86562212297?pwd=9dIbU3spGafM9jRrVVg7KAq2fXP6ZE.1 \nMeeting ID: 834 1176 7290\nPasscode:141146
URL:https://www.wicc.co.in/event/hour-of-awakening/2029-02-09/
LOCATION:World Impact Centre\, TC 10/1052/1\, World Impact Centre Chittoorkonam Road\, Mankaram\, PO\, Powdikonam\, Thiruvananthapuram\, Kerala\, 695588\, India
ATTACH;FMTTYPE=image/jpeg:https://www.wicc.co.in/wp-content/uploads/2023/05/Hour-Of-Awakening.jpg
END:VEVENT
BEGIN:VEVENT
DTSTART;TZID=Asia/Kolkata:20290211T090000
DTEND;TZID=Asia/Kolkata:20290211T110000
DTSTAMP:20260420T211356
CREATED:20231225T083455Z
LAST-MODIFIED:20260221T034851Z
UID:10003942-1865494800-1865502000@www.wicc.co.in
SUMMARY:Malayalam Sunday Service
DESCRIPTION:Watch Now\n‎ \nJoin In-Person\n\n 
URL:https://www.wicc.co.in/event/malayalam-sunday-service-2-2/2029-02-11/
LOCATION:World Impact Centre\, TC 10/1052/1\, World Impact Centre Chittoorkonam Road\, Mankaram\, PO\, Powdikonam\, Thiruvananthapuram\, Kerala\, 695588\, India
ATTACH;FMTTYPE=image/jpeg:https://www.wicc.co.in/wp-content/uploads/2023/03/mal.jpg
END:VEVENT
BEGIN:VEVENT
DTSTART;TZID=Asia/Kolkata:20290211T113000
DTEND;TZID=Asia/Kolkata:20290211T130000
DTSTAMP:20260420T211356
CREATED:20260325T044124Z
LAST-MODIFIED:20260325T044126Z
UID:10003866-1865503800-1865509200@www.wicc.co.in
SUMMARY:English Sunday Service
DESCRIPTION:Watch Now\n‎ \nJoin In-Person\n\n 
URL:https://www.wicc.co.in/event/english-sunday-service-2-2-2-2/2029-02-11/
LOCATION:World Impact Centre\, TC 10/1052/1\, World Impact Centre Chittoorkonam Road\, Mankaram\, PO\, Powdikonam\, Thiruvananthapuram\, Kerala\, 695588\, India
ATTACH;FMTTYPE=image/jpeg:https://www.wicc.co.in/wp-content/uploads/2023/03/eng.jpg
END:VEVENT
BEGIN:VEVENT
DTSTART;TZID=Asia/Kolkata:20290212T060000
DTEND;TZID=Asia/Kolkata:20290212T070000
DTSTAMP:20260420T211356
CREATED:20231214T095750Z
LAST-MODIFIED:20240215T054126Z
UID:10003864-1865570400-1865574000@www.wicc.co.in
SUMMARY:Praying Warriors (Men's Intercession)
DESCRIPTION:Men’s Intercession\nEvery Monday \nJoin Zoom Meeting\nhttps://us06web.zoom.us/j/85914714467?pwd=gX651wdGI1TX6Qy7vmUCBcyiiDnZ7w.1 \nMeeting ID: 822 8931 2373\nPasscode: 610675
URL:https://www.wicc.co.in/event/praying-warriors-2/2029-02-12/
LOCATION:Kerala
ATTACH;FMTTYPE=image/jpeg:https://www.wicc.co.in/wp-content/uploads/2023/04/modern-man-magazine-cover.jpg
END:VEVENT
BEGIN:VEVENT
DTSTART;TZID=Asia/Kolkata:20290213T070000
DTEND;TZID=Asia/Kolkata:20290213T080000
DTSTAMP:20260420T211356
CREATED:20230412T044657Z
LAST-MODIFIED:20240215T052319Z
UID:10003816-1865660400-1865664000@www.wicc.co.in
SUMMARY:The Morning Watch
DESCRIPTION:The Morning Watch: A Morning Prayer Time\nEvery Tuesday @ 7AM \nJoin Zoom Meeting\nhttps://us06web.zoom.us/j/89828357076?pwd=giHZTJJmaGjFZSiuNoB62CT9eExRMb.1 \nMeeting ID: 898 2835 7076\nPasscode: 157202
URL:https://www.wicc.co.in/event/the-morning-watch/2029-02-13/
LOCATION:Kerala
ATTACH;FMTTYPE=image/jpeg:https://www.wicc.co.in/wp-content/uploads/2023/05/THE-MORNING-WATCH.jpg
END:VEVENT
BEGIN:VEVENT
DTSTART;TZID=Asia/Kolkata:20290218T090000
DTEND;TZID=Asia/Kolkata:20290218T110000
DTSTAMP:20260420T211356
CREATED:20231225T083455Z
LAST-MODIFIED:20260221T034851Z
UID:10003943-1866099600-1866106800@www.wicc.co.in
SUMMARY:Malayalam Sunday Service
DESCRIPTION:Watch Now\n‎ \nJoin In-Person\n\n 
URL:https://www.wicc.co.in/event/malayalam-sunday-service-2-2/2029-02-18/
LOCATION:World Impact Centre\, TC 10/1052/1\, World Impact Centre Chittoorkonam Road\, Mankaram\, PO\, Powdikonam\, Thiruvananthapuram\, Kerala\, 695588\, India
ATTACH;FMTTYPE=image/jpeg:https://www.wicc.co.in/wp-content/uploads/2023/03/mal.jpg
END:VEVENT
BEGIN:VEVENT
DTSTART;TZID=Asia/Kolkata:20290218T113000
DTEND;TZID=Asia/Kolkata:20290218T130000
DTSTAMP:20260420T211356
CREATED:20260325T044124Z
LAST-MODIFIED:20260325T044126Z
UID:10003867-1866108600-1866114000@www.wicc.co.in
SUMMARY:English Sunday Service
DESCRIPTION:Watch Now\n‎ \nJoin In-Person\n\n 
URL:https://www.wicc.co.in/event/english-sunday-service-2-2-2-2/2029-02-18/
LOCATION:World Impact Centre\, TC 10/1052/1\, World Impact Centre Chittoorkonam Road\, Mankaram\, PO\, Powdikonam\, Thiruvananthapuram\, Kerala\, 695588\, India
ATTACH;FMTTYPE=image/jpeg:https://www.wicc.co.in/wp-content/uploads/2023/03/eng.jpg
END:VEVENT
BEGIN:VEVENT
DTSTART;TZID=Asia/Kolkata:20290225T090000
DTEND;TZID=Asia/Kolkata:20290225T110000
DTSTAMP:20260420T211356
CREATED:20231225T083455Z
LAST-MODIFIED:20260221T034851Z
UID:10003944-1866704400-1866711600@www.wicc.co.in
SUMMARY:Malayalam Sunday Service
DESCRIPTION:Watch Now\n‎ \nJoin In-Person\n\n 
URL:https://www.wicc.co.in/event/malayalam-sunday-service-2-2/2029-02-25/
LOCATION:World Impact Centre\, TC 10/1052/1\, World Impact Centre Chittoorkonam Road\, Mankaram\, PO\, Powdikonam\, Thiruvananthapuram\, Kerala\, 695588\, India
ATTACH;FMTTYPE=image/jpeg:https://www.wicc.co.in/wp-content/uploads/2023/03/mal.jpg
END:VEVENT
BEGIN:VEVENT
DTSTART;TZID=Asia/Kolkata:20290225T113000
DTEND;TZID=Asia/Kolkata:20290225T130000
DTSTAMP:20260420T211356
CREATED:20260325T044124Z
LAST-MODIFIED:20260325T044126Z
UID:10003868-1866713400-1866718800@www.wicc.co.in
SUMMARY:English Sunday Service
DESCRIPTION:Watch Now\n‎ \nJoin In-Person\n\n 
URL:https://www.wicc.co.in/event/english-sunday-service-2-2-2-2/2029-02-25/
LOCATION:World Impact Centre\, TC 10/1052/1\, World Impact Centre Chittoorkonam Road\, Mankaram\, PO\, Powdikonam\, Thiruvananthapuram\, Kerala\, 695588\, India
ATTACH;FMTTYPE=image/jpeg:https://www.wicc.co.in/wp-content/uploads/2023/03/eng.jpg
END:VEVENT
BEGIN:VEVENT
DTSTART;TZID=Asia/Kolkata:20290304T090000
DTEND;TZID=Asia/Kolkata:20290304T110000
DTSTAMP:20260420T211356
CREATED:20231225T083455Z
LAST-MODIFIED:20260221T034851Z
UID:10003945-1867309200-1867316400@www.wicc.co.in
SUMMARY:Malayalam Sunday Service
DESCRIPTION:Watch Now\n‎ \nJoin In-Person\n\n 
URL:https://www.wicc.co.in/event/malayalam-sunday-service-2-2/2029-03-04/
LOCATION:World Impact Centre\, TC 10/1052/1\, World Impact Centre Chittoorkonam Road\, Mankaram\, PO\, Powdikonam\, Thiruvananthapuram\, Kerala\, 695588\, India
ATTACH;FMTTYPE=image/jpeg:https://www.wicc.co.in/wp-content/uploads/2023/03/mal.jpg
END:VEVENT
BEGIN:VEVENT
DTSTART;TZID=Asia/Kolkata:20290304T113000
DTEND;TZID=Asia/Kolkata:20290304T130000
DTSTAMP:20260420T211356
CREATED:20260325T044124Z
LAST-MODIFIED:20260325T044126Z
UID:10003869-1867318200-1867323600@www.wicc.co.in
SUMMARY:English Sunday Service
DESCRIPTION:Watch Now\n‎ \nJoin In-Person\n\n 
URL:https://www.wicc.co.in/event/english-sunday-service-2-2-2-2/2029-03-04/
LOCATION:World Impact Centre\, TC 10/1052/1\, World Impact Centre Chittoorkonam Road\, Mankaram\, PO\, Powdikonam\, Thiruvananthapuram\, Kerala\, 695588\, India
ATTACH;FMTTYPE=image/jpeg:https://www.wicc.co.in/wp-content/uploads/2023/03/eng.jpg
END:VEVENT
BEGIN:VEVENT
DTSTART;TZID=Asia/Kolkata:20290311T090000
DTEND;TZID=Asia/Kolkata:20290311T110000
DTSTAMP:20260420T211356
CREATED:20231225T083455Z
LAST-MODIFIED:20260221T034851Z
UID:10003946-1867914000-1867921200@www.wicc.co.in
SUMMARY:Malayalam Sunday Service
DESCRIPTION:Watch Now\n‎ \nJoin In-Person\n\n 
URL:https://www.wicc.co.in/event/malayalam-sunday-service-2-2/2029-03-11/
LOCATION:World Impact Centre\, TC 10/1052/1\, World Impact Centre Chittoorkonam Road\, Mankaram\, PO\, Powdikonam\, Thiruvananthapuram\, Kerala\, 695588\, India
ATTACH;FMTTYPE=image/jpeg:https://www.wicc.co.in/wp-content/uploads/2023/03/mal.jpg
END:VEVENT
BEGIN:VEVENT
DTSTART;TZID=Asia/Kolkata:20290311T113000
DTEND;TZID=Asia/Kolkata:20290311T130000
DTSTAMP:20260420T211356
CREATED:20260325T044124Z
LAST-MODIFIED:20260325T044126Z
UID:10003870-1867923000-1867928400@www.wicc.co.in
SUMMARY:English Sunday Service
DESCRIPTION:Watch Now\n‎ \nJoin In-Person\n\n 
URL:https://www.wicc.co.in/event/english-sunday-service-2-2-2-2/2029-03-11/
LOCATION:World Impact Centre\, TC 10/1052/1\, World Impact Centre Chittoorkonam Road\, Mankaram\, PO\, Powdikonam\, Thiruvananthapuram\, Kerala\, 695588\, India
ATTACH;FMTTYPE=image/jpeg:https://www.wicc.co.in/wp-content/uploads/2023/03/eng.jpg
END:VEVENT
END:VCALENDAR