BEGIN:VCALENDAR
VERSION:2.0
PRODID:-//World Impact Community Church - ECPv6.0.13.1//NONSGML v1.0//EN
CALSCALE:GREGORIAN
METHOD:PUBLISH
X-WR-CALNAME:World Impact Community Church
X-ORIGINAL-URL:https://www.wicc.co.in
X-WR-CALDESC:Events for World Impact Community Church
REFRESH-INTERVAL;VALUE=DURATION:PT1H
X-Robots-Tag:noindex
X-PUBLISHED-TTL:PT1H
BEGIN:VTIMEZONE
TZID:Asia/Kolkata
BEGIN:STANDARD
TZOFFSETFROM:+0530
TZOFFSETTO:+0530
TZNAME:IST
DTSTART:20290101T000000
END:STANDARD
END:VTIMEZONE
BEGIN:VEVENT
DTSTART;TZID=Asia/Kolkata:20290520T113000
DTEND;TZID=Asia/Kolkata:20290520T130000
DTSTAMP:20260421T111504
CREATED:20260325T044124Z
LAST-MODIFIED:20260325T044126Z
UID:10003880-1873971000-1873976400@www.wicc.co.in
SUMMARY:English Sunday Service
DESCRIPTION:Watch Now\n‎ \nJoin In-Person\n\n 
URL:https://www.wicc.co.in/event/english-sunday-service-2-2-2-2/2029-05-20/
LOCATION:World Impact Centre\, TC 10/1052/1\, World Impact Centre Chittoorkonam Road\, Mankaram\, PO\, Powdikonam\, Thiruvananthapuram\, Kerala\, 695588\, India
ATTACH;FMTTYPE=image/jpeg:https://www.wicc.co.in/wp-content/uploads/2023/03/eng.jpg
END:VEVENT
BEGIN:VEVENT
DTSTART;TZID=Asia/Kolkata:20290527T090000
DTEND;TZID=Asia/Kolkata:20290527T110000
DTSTAMP:20260421T111504
CREATED:20231225T083455Z
LAST-MODIFIED:20260221T034851Z
UID:10003957-1874566800-1874574000@www.wicc.co.in
SUMMARY:Malayalam Sunday Service
DESCRIPTION:Watch Now\n‎ \nJoin In-Person\n\n 
URL:https://www.wicc.co.in/event/malayalam-sunday-service-2-2/2029-05-27/
LOCATION:World Impact Centre\, TC 10/1052/1\, World Impact Centre Chittoorkonam Road\, Mankaram\, PO\, Powdikonam\, Thiruvananthapuram\, Kerala\, 695588\, India
ATTACH;FMTTYPE=image/jpeg:https://www.wicc.co.in/wp-content/uploads/2023/03/mal.jpg
END:VEVENT
BEGIN:VEVENT
DTSTART;TZID=Asia/Kolkata:20290527T113000
DTEND;TZID=Asia/Kolkata:20290527T130000
DTSTAMP:20260421T111504
CREATED:20260325T044124Z
LAST-MODIFIED:20260325T044126Z
UID:10003881-1874575800-1874581200@www.wicc.co.in
SUMMARY:English Sunday Service
DESCRIPTION:Watch Now\n‎ \nJoin In-Person\n\n 
URL:https://www.wicc.co.in/event/english-sunday-service-2-2-2-2/2029-05-27/
LOCATION:World Impact Centre\, TC 10/1052/1\, World Impact Centre Chittoorkonam Road\, Mankaram\, PO\, Powdikonam\, Thiruvananthapuram\, Kerala\, 695588\, India
ATTACH;FMTTYPE=image/jpeg:https://www.wicc.co.in/wp-content/uploads/2023/03/eng.jpg
END:VEVENT
BEGIN:VEVENT
DTSTART;TZID=Asia/Kolkata:20290603T090000
DTEND;TZID=Asia/Kolkata:20290603T110000
DTSTAMP:20260421T111504
CREATED:20231225T083455Z
LAST-MODIFIED:20260221T034851Z
UID:10003958-1875171600-1875178800@www.wicc.co.in
SUMMARY:Malayalam Sunday Service
DESCRIPTION:Watch Now\n‎ \nJoin In-Person\n\n 
URL:https://www.wicc.co.in/event/malayalam-sunday-service-2-2/2029-06-03/
LOCATION:World Impact Centre\, TC 10/1052/1\, World Impact Centre Chittoorkonam Road\, Mankaram\, PO\, Powdikonam\, Thiruvananthapuram\, Kerala\, 695588\, India
ATTACH;FMTTYPE=image/jpeg:https://www.wicc.co.in/wp-content/uploads/2023/03/mal.jpg
END:VEVENT
BEGIN:VEVENT
DTSTART;TZID=Asia/Kolkata:20290603T113000
DTEND;TZID=Asia/Kolkata:20290603T130000
DTSTAMP:20260421T111504
CREATED:20260325T044124Z
LAST-MODIFIED:20260325T044126Z
UID:10003882-1875180600-1875186000@www.wicc.co.in
SUMMARY:English Sunday Service
DESCRIPTION:Watch Now\n‎ \nJoin In-Person\n\n 
URL:https://www.wicc.co.in/event/english-sunday-service-2-2-2-2/2029-06-03/
LOCATION:World Impact Centre\, TC 10/1052/1\, World Impact Centre Chittoorkonam Road\, Mankaram\, PO\, Powdikonam\, Thiruvananthapuram\, Kerala\, 695588\, India
ATTACH;FMTTYPE=image/jpeg:https://www.wicc.co.in/wp-content/uploads/2023/03/eng.jpg
END:VEVENT
BEGIN:VEVENT
DTSTART;TZID=Asia/Kolkata:20290610T090000
DTEND;TZID=Asia/Kolkata:20290610T110000
DTSTAMP:20260421T111504
CREATED:20231225T083455Z
LAST-MODIFIED:20260221T034851Z
UID:10003959-1875776400-1875783600@www.wicc.co.in
SUMMARY:Malayalam Sunday Service
DESCRIPTION:Watch Now\n‎ \nJoin In-Person\n\n 
URL:https://www.wicc.co.in/event/malayalam-sunday-service-2-2/2029-06-10/
LOCATION:World Impact Centre\, TC 10/1052/1\, World Impact Centre Chittoorkonam Road\, Mankaram\, PO\, Powdikonam\, Thiruvananthapuram\, Kerala\, 695588\, India
ATTACH;FMTTYPE=image/jpeg:https://www.wicc.co.in/wp-content/uploads/2023/03/mal.jpg
END:VEVENT
BEGIN:VEVENT
DTSTART;TZID=Asia/Kolkata:20290610T113000
DTEND;TZID=Asia/Kolkata:20290610T130000
DTSTAMP:20260421T111504
CREATED:20260325T044124Z
LAST-MODIFIED:20260325T044126Z
UID:10003883-1875785400-1875790800@www.wicc.co.in
SUMMARY:English Sunday Service
DESCRIPTION:Watch Now\n‎ \nJoin In-Person\n\n 
URL:https://www.wicc.co.in/event/english-sunday-service-2-2-2-2/2029-06-10/
LOCATION:World Impact Centre\, TC 10/1052/1\, World Impact Centre Chittoorkonam Road\, Mankaram\, PO\, Powdikonam\, Thiruvananthapuram\, Kerala\, 695588\, India
ATTACH;FMTTYPE=image/jpeg:https://www.wicc.co.in/wp-content/uploads/2023/03/eng.jpg
END:VEVENT
BEGIN:VEVENT
DTSTART;TZID=Asia/Kolkata:20290617T090000
DTEND;TZID=Asia/Kolkata:20290617T110000
DTSTAMP:20260421T111504
CREATED:20231225T083455Z
LAST-MODIFIED:20260221T034851Z
UID:10003960-1876381200-1876388400@www.wicc.co.in
SUMMARY:Malayalam Sunday Service
DESCRIPTION:Watch Now\n‎ \nJoin In-Person\n\n 
URL:https://www.wicc.co.in/event/malayalam-sunday-service-2-2/2029-06-17/
LOCATION:World Impact Centre\, TC 10/1052/1\, World Impact Centre Chittoorkonam Road\, Mankaram\, PO\, Powdikonam\, Thiruvananthapuram\, Kerala\, 695588\, India
ATTACH;FMTTYPE=image/jpeg:https://www.wicc.co.in/wp-content/uploads/2023/03/mal.jpg
END:VEVENT
BEGIN:VEVENT
DTSTART;TZID=Asia/Kolkata:20290617T113000
DTEND;TZID=Asia/Kolkata:20290617T130000
DTSTAMP:20260421T111505
CREATED:20260325T044124Z
LAST-MODIFIED:20260325T044126Z
UID:10003884-1876390200-1876395600@www.wicc.co.in
SUMMARY:English Sunday Service
DESCRIPTION:Watch Now\n‎ \nJoin In-Person\n\n 
URL:https://www.wicc.co.in/event/english-sunday-service-2-2-2-2/2029-06-17/
LOCATION:World Impact Centre\, TC 10/1052/1\, World Impact Centre Chittoorkonam Road\, Mankaram\, PO\, Powdikonam\, Thiruvananthapuram\, Kerala\, 695588\, India
ATTACH;FMTTYPE=image/jpeg:https://www.wicc.co.in/wp-content/uploads/2023/03/eng.jpg
END:VEVENT
BEGIN:VEVENT
DTSTART;TZID=Asia/Kolkata:20290624T090000
DTEND;TZID=Asia/Kolkata:20290624T110000
DTSTAMP:20260421T111505
CREATED:20231225T083455Z
LAST-MODIFIED:20260221T034851Z
UID:10003961-1876986000-1876993200@www.wicc.co.in
SUMMARY:Malayalam Sunday Service
DESCRIPTION:Watch Now\n‎ \nJoin In-Person\n\n 
URL:https://www.wicc.co.in/event/malayalam-sunday-service-2-2/2029-06-24/
LOCATION:World Impact Centre\, TC 10/1052/1\, World Impact Centre Chittoorkonam Road\, Mankaram\, PO\, Powdikonam\, Thiruvananthapuram\, Kerala\, 695588\, India
ATTACH;FMTTYPE=image/jpeg:https://www.wicc.co.in/wp-content/uploads/2023/03/mal.jpg
END:VEVENT
BEGIN:VEVENT
DTSTART;TZID=Asia/Kolkata:20290624T113000
DTEND;TZID=Asia/Kolkata:20290624T130000
DTSTAMP:20260421T111505
CREATED:20260325T044124Z
LAST-MODIFIED:20260325T044126Z
UID:10003885-1876995000-1877000400@www.wicc.co.in
SUMMARY:English Sunday Service
DESCRIPTION:Watch Now\n‎ \nJoin In-Person\n\n 
URL:https://www.wicc.co.in/event/english-sunday-service-2-2-2-2/2029-06-24/
LOCATION:World Impact Centre\, TC 10/1052/1\, World Impact Centre Chittoorkonam Road\, Mankaram\, PO\, Powdikonam\, Thiruvananthapuram\, Kerala\, 695588\, India
ATTACH;FMTTYPE=image/jpeg:https://www.wicc.co.in/wp-content/uploads/2023/03/eng.jpg
END:VEVENT
BEGIN:VEVENT
DTSTART;TZID=Asia/Kolkata:20290701T090000
DTEND;TZID=Asia/Kolkata:20290701T110000
DTSTAMP:20260421T111505
CREATED:20231225T083455Z
LAST-MODIFIED:20260221T034851Z
UID:10003962-1877590800-1877598000@www.wicc.co.in
SUMMARY:Malayalam Sunday Service
DESCRIPTION:Watch Now\n‎ \nJoin In-Person\n\n 
URL:https://www.wicc.co.in/event/malayalam-sunday-service-2-2/2029-07-01/
LOCATION:World Impact Centre\, TC 10/1052/1\, World Impact Centre Chittoorkonam Road\, Mankaram\, PO\, Powdikonam\, Thiruvananthapuram\, Kerala\, 695588\, India
ATTACH;FMTTYPE=image/jpeg:https://www.wicc.co.in/wp-content/uploads/2023/03/mal.jpg
END:VEVENT
BEGIN:VEVENT
DTSTART;TZID=Asia/Kolkata:20290701T113000
DTEND;TZID=Asia/Kolkata:20290701T130000
DTSTAMP:20260421T111505
CREATED:20260325T044124Z
LAST-MODIFIED:20260325T044126Z
UID:10003886-1877599800-1877605200@www.wicc.co.in
SUMMARY:English Sunday Service
DESCRIPTION:Watch Now\n‎ \nJoin In-Person\n\n 
URL:https://www.wicc.co.in/event/english-sunday-service-2-2-2-2/2029-07-01/
LOCATION:World Impact Centre\, TC 10/1052/1\, World Impact Centre Chittoorkonam Road\, Mankaram\, PO\, Powdikonam\, Thiruvananthapuram\, Kerala\, 695588\, India
ATTACH;FMTTYPE=image/jpeg:https://www.wicc.co.in/wp-content/uploads/2023/03/eng.jpg
END:VEVENT
BEGIN:VEVENT
DTSTART;TZID=Asia/Kolkata:20290708T090000
DTEND;TZID=Asia/Kolkata:20290708T110000
DTSTAMP:20260421T111505
CREATED:20231225T083455Z
LAST-MODIFIED:20260221T034851Z
UID:10003963-1878195600-1878202800@www.wicc.co.in
SUMMARY:Malayalam Sunday Service
DESCRIPTION:Watch Now\n‎ \nJoin In-Person\n\n 
URL:https://www.wicc.co.in/event/malayalam-sunday-service-2-2/2029-07-08/
LOCATION:World Impact Centre\, TC 10/1052/1\, World Impact Centre Chittoorkonam Road\, Mankaram\, PO\, Powdikonam\, Thiruvananthapuram\, Kerala\, 695588\, India
ATTACH;FMTTYPE=image/jpeg:https://www.wicc.co.in/wp-content/uploads/2023/03/mal.jpg
END:VEVENT
BEGIN:VEVENT
DTSTART;TZID=Asia/Kolkata:20290708T113000
DTEND;TZID=Asia/Kolkata:20290708T130000
DTSTAMP:20260421T111505
CREATED:20260325T044124Z
LAST-MODIFIED:20260325T044126Z
UID:10003887-1878204600-1878210000@www.wicc.co.in
SUMMARY:English Sunday Service
DESCRIPTION:Watch Now\n‎ \nJoin In-Person\n\n 
URL:https://www.wicc.co.in/event/english-sunday-service-2-2-2-2/2029-07-08/
LOCATION:World Impact Centre\, TC 10/1052/1\, World Impact Centre Chittoorkonam Road\, Mankaram\, PO\, Powdikonam\, Thiruvananthapuram\, Kerala\, 695588\, India
ATTACH;FMTTYPE=image/jpeg:https://www.wicc.co.in/wp-content/uploads/2023/03/eng.jpg
END:VEVENT
BEGIN:VEVENT
DTSTART;TZID=Asia/Kolkata:20290715T090000
DTEND;TZID=Asia/Kolkata:20290715T110000
DTSTAMP:20260421T111505
CREATED:20231225T083455Z
LAST-MODIFIED:20260221T034851Z
UID:10003964-1878800400-1878807600@www.wicc.co.in
SUMMARY:Malayalam Sunday Service
DESCRIPTION:Watch Now\n‎ \nJoin In-Person\n\n 
URL:https://www.wicc.co.in/event/malayalam-sunday-service-2-2/2029-07-15/
LOCATION:World Impact Centre\, TC 10/1052/1\, World Impact Centre Chittoorkonam Road\, Mankaram\, PO\, Powdikonam\, Thiruvananthapuram\, Kerala\, 695588\, India
ATTACH;FMTTYPE=image/jpeg:https://www.wicc.co.in/wp-content/uploads/2023/03/mal.jpg
END:VEVENT
BEGIN:VEVENT
DTSTART;TZID=Asia/Kolkata:20290715T113000
DTEND;TZID=Asia/Kolkata:20290715T130000
DTSTAMP:20260421T111505
CREATED:20260325T044124Z
LAST-MODIFIED:20260325T044126Z
UID:10003888-1878809400-1878814800@www.wicc.co.in
SUMMARY:English Sunday Service
DESCRIPTION:Watch Now\n‎ \nJoin In-Person\n\n 
URL:https://www.wicc.co.in/event/english-sunday-service-2-2-2-2/2029-07-15/
LOCATION:World Impact Centre\, TC 10/1052/1\, World Impact Centre Chittoorkonam Road\, Mankaram\, PO\, Powdikonam\, Thiruvananthapuram\, Kerala\, 695588\, India
ATTACH;FMTTYPE=image/jpeg:https://www.wicc.co.in/wp-content/uploads/2023/03/eng.jpg
END:VEVENT
BEGIN:VEVENT
DTSTART;TZID=Asia/Kolkata:20290722T090000
DTEND;TZID=Asia/Kolkata:20290722T110000
DTSTAMP:20260421T111505
CREATED:20231225T083455Z
LAST-MODIFIED:20260221T034851Z
UID:10003965-1879405200-1879412400@www.wicc.co.in
SUMMARY:Malayalam Sunday Service
DESCRIPTION:Watch Now\n‎ \nJoin In-Person\n\n 
URL:https://www.wicc.co.in/event/malayalam-sunday-service-2-2/2029-07-22/
LOCATION:World Impact Centre\, TC 10/1052/1\, World Impact Centre Chittoorkonam Road\, Mankaram\, PO\, Powdikonam\, Thiruvananthapuram\, Kerala\, 695588\, India
ATTACH;FMTTYPE=image/jpeg:https://www.wicc.co.in/wp-content/uploads/2023/03/mal.jpg
END:VEVENT
BEGIN:VEVENT
DTSTART;TZID=Asia/Kolkata:20290722T113000
DTEND;TZID=Asia/Kolkata:20290722T130000
DTSTAMP:20260421T111505
CREATED:20260325T044124Z
LAST-MODIFIED:20260325T044126Z
UID:10003889-1879414200-1879419600@www.wicc.co.in
SUMMARY:English Sunday Service
DESCRIPTION:Watch Now\n‎ \nJoin In-Person\n\n 
URL:https://www.wicc.co.in/event/english-sunday-service-2-2-2-2/2029-07-22/
LOCATION:World Impact Centre\, TC 10/1052/1\, World Impact Centre Chittoorkonam Road\, Mankaram\, PO\, Powdikonam\, Thiruvananthapuram\, Kerala\, 695588\, India
ATTACH;FMTTYPE=image/jpeg:https://www.wicc.co.in/wp-content/uploads/2023/03/eng.jpg
END:VEVENT
BEGIN:VEVENT
DTSTART;TZID=Asia/Kolkata:20290729T090000
DTEND;TZID=Asia/Kolkata:20290729T110000
DTSTAMP:20260421T111505
CREATED:20231225T083455Z
LAST-MODIFIED:20260221T034851Z
UID:10003966-1880010000-1880017200@www.wicc.co.in
SUMMARY:Malayalam Sunday Service
DESCRIPTION:Watch Now\n‎ \nJoin In-Person\n\n 
URL:https://www.wicc.co.in/event/malayalam-sunday-service-2-2/2029-07-29/
LOCATION:World Impact Centre\, TC 10/1052/1\, World Impact Centre Chittoorkonam Road\, Mankaram\, PO\, Powdikonam\, Thiruvananthapuram\, Kerala\, 695588\, India
ATTACH;FMTTYPE=image/jpeg:https://www.wicc.co.in/wp-content/uploads/2023/03/mal.jpg
END:VEVENT
BEGIN:VEVENT
DTSTART;TZID=Asia/Kolkata:20290729T113000
DTEND;TZID=Asia/Kolkata:20290729T130000
DTSTAMP:20260421T111505
CREATED:20260325T044124Z
LAST-MODIFIED:20260325T044126Z
UID:10003890-1880019000-1880024400@www.wicc.co.in
SUMMARY:English Sunday Service
DESCRIPTION:Watch Now\n‎ \nJoin In-Person\n\n 
URL:https://www.wicc.co.in/event/english-sunday-service-2-2-2-2/2029-07-29/
LOCATION:World Impact Centre\, TC 10/1052/1\, World Impact Centre Chittoorkonam Road\, Mankaram\, PO\, Powdikonam\, Thiruvananthapuram\, Kerala\, 695588\, India
ATTACH;FMTTYPE=image/jpeg:https://www.wicc.co.in/wp-content/uploads/2023/03/eng.jpg
END:VEVENT
BEGIN:VEVENT
DTSTART;TZID=Asia/Kolkata:20290805T090000
DTEND;TZID=Asia/Kolkata:20290805T110000
DTSTAMP:20260421T111505
CREATED:20231225T083455Z
LAST-MODIFIED:20260221T034851Z
UID:10003967-1880614800-1880622000@www.wicc.co.in
SUMMARY:Malayalam Sunday Service
DESCRIPTION:Watch Now\n‎ \nJoin In-Person\n\n 
URL:https://www.wicc.co.in/event/malayalam-sunday-service-2-2/2029-08-05/
LOCATION:World Impact Centre\, TC 10/1052/1\, World Impact Centre Chittoorkonam Road\, Mankaram\, PO\, Powdikonam\, Thiruvananthapuram\, Kerala\, 695588\, India
ATTACH;FMTTYPE=image/jpeg:https://www.wicc.co.in/wp-content/uploads/2023/03/mal.jpg
END:VEVENT
BEGIN:VEVENT
DTSTART;TZID=Asia/Kolkata:20290805T113000
DTEND;TZID=Asia/Kolkata:20290805T130000
DTSTAMP:20260421T111505
CREATED:20260325T044124Z
LAST-MODIFIED:20260325T044126Z
UID:10003891-1880623800-1880629200@www.wicc.co.in
SUMMARY:English Sunday Service
DESCRIPTION:Watch Now\n‎ \nJoin In-Person\n\n 
URL:https://www.wicc.co.in/event/english-sunday-service-2-2-2-2/2029-08-05/
LOCATION:World Impact Centre\, TC 10/1052/1\, World Impact Centre Chittoorkonam Road\, Mankaram\, PO\, Powdikonam\, Thiruvananthapuram\, Kerala\, 695588\, India
ATTACH;FMTTYPE=image/jpeg:https://www.wicc.co.in/wp-content/uploads/2023/03/eng.jpg
END:VEVENT
BEGIN:VEVENT
DTSTART;TZID=Asia/Kolkata:20290812T090000
DTEND;TZID=Asia/Kolkata:20290812T110000
DTSTAMP:20260421T111505
CREATED:20231225T083455Z
LAST-MODIFIED:20260221T034851Z
UID:10003968-1881219600-1881226800@www.wicc.co.in
SUMMARY:Malayalam Sunday Service
DESCRIPTION:Watch Now\n‎ \nJoin In-Person\n\n 
URL:https://www.wicc.co.in/event/malayalam-sunday-service-2-2/2029-08-12/
LOCATION:World Impact Centre\, TC 10/1052/1\, World Impact Centre Chittoorkonam Road\, Mankaram\, PO\, Powdikonam\, Thiruvananthapuram\, Kerala\, 695588\, India
ATTACH;FMTTYPE=image/jpeg:https://www.wicc.co.in/wp-content/uploads/2023/03/mal.jpg
END:VEVENT
BEGIN:VEVENT
DTSTART;TZID=Asia/Kolkata:20290812T113000
DTEND;TZID=Asia/Kolkata:20290812T130000
DTSTAMP:20260421T111505
CREATED:20260325T044124Z
LAST-MODIFIED:20260325T044126Z
UID:10003892-1881228600-1881234000@www.wicc.co.in
SUMMARY:English Sunday Service
DESCRIPTION:Watch Now\n‎ \nJoin In-Person\n\n 
URL:https://www.wicc.co.in/event/english-sunday-service-2-2-2-2/2029-08-12/
LOCATION:World Impact Centre\, TC 10/1052/1\, World Impact Centre Chittoorkonam Road\, Mankaram\, PO\, Powdikonam\, Thiruvananthapuram\, Kerala\, 695588\, India
ATTACH;FMTTYPE=image/jpeg:https://www.wicc.co.in/wp-content/uploads/2023/03/eng.jpg
END:VEVENT
BEGIN:VEVENT
DTSTART;TZID=Asia/Kolkata:20290819T090000
DTEND;TZID=Asia/Kolkata:20290819T110000
DTSTAMP:20260421T111505
CREATED:20231225T083455Z
LAST-MODIFIED:20260221T034851Z
UID:10003969-1881824400-1881831600@www.wicc.co.in
SUMMARY:Malayalam Sunday Service
DESCRIPTION:Watch Now\n‎ \nJoin In-Person\n\n 
URL:https://www.wicc.co.in/event/malayalam-sunday-service-2-2/2029-08-19/
LOCATION:World Impact Centre\, TC 10/1052/1\, World Impact Centre Chittoorkonam Road\, Mankaram\, PO\, Powdikonam\, Thiruvananthapuram\, Kerala\, 695588\, India
ATTACH;FMTTYPE=image/jpeg:https://www.wicc.co.in/wp-content/uploads/2023/03/mal.jpg
END:VEVENT
BEGIN:VEVENT
DTSTART;TZID=Asia/Kolkata:20290819T113000
DTEND;TZID=Asia/Kolkata:20290819T130000
DTSTAMP:20260421T111506
CREATED:20260325T044124Z
LAST-MODIFIED:20260325T044126Z
UID:10003893-1881833400-1881838800@www.wicc.co.in
SUMMARY:English Sunday Service
DESCRIPTION:Watch Now\n‎ \nJoin In-Person\n\n 
URL:https://www.wicc.co.in/event/english-sunday-service-2-2-2-2/2029-08-19/
LOCATION:World Impact Centre\, TC 10/1052/1\, World Impact Centre Chittoorkonam Road\, Mankaram\, PO\, Powdikonam\, Thiruvananthapuram\, Kerala\, 695588\, India
ATTACH;FMTTYPE=image/jpeg:https://www.wicc.co.in/wp-content/uploads/2023/03/eng.jpg
END:VEVENT
BEGIN:VEVENT
DTSTART;TZID=Asia/Kolkata:20290826T090000
DTEND;TZID=Asia/Kolkata:20290826T110000
DTSTAMP:20260421T111506
CREATED:20231225T083455Z
LAST-MODIFIED:20260221T034851Z
UID:10003970-1882429200-1882436400@www.wicc.co.in
SUMMARY:Malayalam Sunday Service
DESCRIPTION:Watch Now\n‎ \nJoin In-Person\n\n 
URL:https://www.wicc.co.in/event/malayalam-sunday-service-2-2/2029-08-26/
LOCATION:World Impact Centre\, TC 10/1052/1\, World Impact Centre Chittoorkonam Road\, Mankaram\, PO\, Powdikonam\, Thiruvananthapuram\, Kerala\, 695588\, India
ATTACH;FMTTYPE=image/jpeg:https://www.wicc.co.in/wp-content/uploads/2023/03/mal.jpg
END:VEVENT
BEGIN:VEVENT
DTSTART;TZID=Asia/Kolkata:20290826T113000
DTEND;TZID=Asia/Kolkata:20290826T130000
DTSTAMP:20260421T111506
CREATED:20260325T044124Z
LAST-MODIFIED:20260325T044126Z
UID:10003894-1882438200-1882443600@www.wicc.co.in
SUMMARY:English Sunday Service
DESCRIPTION:Watch Now\n‎ \nJoin In-Person\n\n 
URL:https://www.wicc.co.in/event/english-sunday-service-2-2-2-2/2029-08-26/
LOCATION:World Impact Centre\, TC 10/1052/1\, World Impact Centre Chittoorkonam Road\, Mankaram\, PO\, Powdikonam\, Thiruvananthapuram\, Kerala\, 695588\, India
ATTACH;FMTTYPE=image/jpeg:https://www.wicc.co.in/wp-content/uploads/2023/03/eng.jpg
END:VEVENT
BEGIN:VEVENT
DTSTART;TZID=Asia/Kolkata:20290902T090000
DTEND;TZID=Asia/Kolkata:20290902T110000
DTSTAMP:20260421T111506
CREATED:20231225T083455Z
LAST-MODIFIED:20260221T034851Z
UID:10003971-1883034000-1883041200@www.wicc.co.in
SUMMARY:Malayalam Sunday Service
DESCRIPTION:Watch Now\n‎ \nJoin In-Person\n\n 
URL:https://www.wicc.co.in/event/malayalam-sunday-service-2-2/2029-09-02/
LOCATION:World Impact Centre\, TC 10/1052/1\, World Impact Centre Chittoorkonam Road\, Mankaram\, PO\, Powdikonam\, Thiruvananthapuram\, Kerala\, 695588\, India
ATTACH;FMTTYPE=image/jpeg:https://www.wicc.co.in/wp-content/uploads/2023/03/mal.jpg
END:VEVENT
END:VCALENDAR