BEGIN:VCALENDAR
VERSION:2.0
PRODID:-//World Impact Community Church - ECPv6.0.13.1//NONSGML v1.0//EN
CALSCALE:GREGORIAN
METHOD:PUBLISH
X-ORIGINAL-URL:https://www.wicc.co.in
X-WR-CALDESC:Events for World Impact Community Church
REFRESH-INTERVAL;VALUE=DURATION:PT1H
X-Robots-Tag:noindex
X-PUBLISHED-TTL:PT1H
BEGIN:VTIMEZONE
TZID:Asia/Kolkata
BEGIN:STANDARD
TZOFFSETFROM:+0530
TZOFFSETTO:+0530
TZNAME:IST
DTSTART:20300101T000000
END:STANDARD
END:VTIMEZONE
BEGIN:VEVENT
DTSTART;TZID=Asia/Kolkata:20301013T090000
DTEND;TZID=Asia/Kolkata:20301013T110000
DTSTAMP:20260425T142220
CREATED:20231225T083455Z
LAST-MODIFIED:20260221T034851Z
UID:10004063-1918112400-1918119600@www.wicc.co.in
SUMMARY:Malayalam Sunday Service
DESCRIPTION:Watch Now\n‎ \nJoin In-Person\n\n 
URL:https://www.wicc.co.in/event/malayalam-sunday-service-2-2/2030-10-13/
LOCATION:World Impact Centre\, TC 10/1052/1\, World Impact Centre Chittoorkonam Road\, Mankaram\, PO\, Powdikonam\, Thiruvananthapuram\, Kerala\, 695588\, India
ATTACH;FMTTYPE=image/jpeg:https://www.wicc.co.in/wp-content/uploads/2023/03/mal.jpg
END:VEVENT
BEGIN:VEVENT
DTSTART;TZID=Asia/Kolkata:20301013T113000
DTEND;TZID=Asia/Kolkata:20301013T130000
DTSTAMP:20260425T142220
CREATED:20260325T044124Z
LAST-MODIFIED:20260325T044126Z
UID:10004031-1918121400-1918126800@www.wicc.co.in
SUMMARY:English Sunday Service
DESCRIPTION:Watch Now\n‎ \nJoin In-Person\n\n 
URL:https://www.wicc.co.in/event/english-sunday-service-2-2-2-2/2030-10-13/
LOCATION:World Impact Centre\, TC 10/1052/1\, World Impact Centre Chittoorkonam Road\, Mankaram\, PO\, Powdikonam\, Thiruvananthapuram\, Kerala\, 695588\, India
ATTACH;FMTTYPE=image/jpeg:https://www.wicc.co.in/wp-content/uploads/2023/03/eng.jpg
END:VEVENT
BEGIN:VEVENT
DTSTART;TZID=Asia/Kolkata:20301020T090000
DTEND;TZID=Asia/Kolkata:20301020T110000
DTSTAMP:20260425T142220
CREATED:20231225T083455Z
LAST-MODIFIED:20260221T034851Z
UID:10004064-1918717200-1918724400@www.wicc.co.in
SUMMARY:Malayalam Sunday Service
DESCRIPTION:Watch Now\n‎ \nJoin In-Person\n\n 
URL:https://www.wicc.co.in/event/malayalam-sunday-service-2-2/2030-10-20/
LOCATION:World Impact Centre\, TC 10/1052/1\, World Impact Centre Chittoorkonam Road\, Mankaram\, PO\, Powdikonam\, Thiruvananthapuram\, Kerala\, 695588\, India
ATTACH;FMTTYPE=image/jpeg:https://www.wicc.co.in/wp-content/uploads/2023/03/mal.jpg
END:VEVENT
BEGIN:VEVENT
DTSTART;TZID=Asia/Kolkata:20301020T113000
DTEND;TZID=Asia/Kolkata:20301020T130000
DTSTAMP:20260425T142220
CREATED:20260325T044124Z
LAST-MODIFIED:20260325T044126Z
UID:10004032-1918726200-1918731600@www.wicc.co.in
SUMMARY:English Sunday Service
DESCRIPTION:Watch Now\n‎ \nJoin In-Person\n\n 
URL:https://www.wicc.co.in/event/english-sunday-service-2-2-2-2/2030-10-20/
LOCATION:World Impact Centre\, TC 10/1052/1\, World Impact Centre Chittoorkonam Road\, Mankaram\, PO\, Powdikonam\, Thiruvananthapuram\, Kerala\, 695588\, India
ATTACH;FMTTYPE=image/jpeg:https://www.wicc.co.in/wp-content/uploads/2023/03/eng.jpg
END:VEVENT
BEGIN:VEVENT
DTSTART;TZID=Asia/Kolkata:20301027T090000
DTEND;TZID=Asia/Kolkata:20301027T110000
DTSTAMP:20260425T142220
CREATED:20231225T083455Z
LAST-MODIFIED:20260221T034851Z
UID:10004065-1919322000-1919329200@www.wicc.co.in
SUMMARY:Malayalam Sunday Service
DESCRIPTION:Watch Now\n‎ \nJoin In-Person\n\n 
URL:https://www.wicc.co.in/event/malayalam-sunday-service-2-2/2030-10-27/
LOCATION:World Impact Centre\, TC 10/1052/1\, World Impact Centre Chittoorkonam Road\, Mankaram\, PO\, Powdikonam\, Thiruvananthapuram\, Kerala\, 695588\, India
ATTACH;FMTTYPE=image/jpeg:https://www.wicc.co.in/wp-content/uploads/2023/03/mal.jpg
END:VEVENT
BEGIN:VEVENT
DTSTART;TZID=Asia/Kolkata:20301027T113000
DTEND;TZID=Asia/Kolkata:20301027T130000
DTSTAMP:20260425T142220
CREATED:20260325T044124Z
LAST-MODIFIED:20260325T044126Z
UID:10004033-1919331000-1919336400@www.wicc.co.in
SUMMARY:English Sunday Service
DESCRIPTION:Watch Now\n‎ \nJoin In-Person\n\n 
URL:https://www.wicc.co.in/event/english-sunday-service-2-2-2-2/2030-10-27/
LOCATION:World Impact Centre\, TC 10/1052/1\, World Impact Centre Chittoorkonam Road\, Mankaram\, PO\, Powdikonam\, Thiruvananthapuram\, Kerala\, 695588\, India
ATTACH;FMTTYPE=image/jpeg:https://www.wicc.co.in/wp-content/uploads/2023/03/eng.jpg
END:VEVENT
BEGIN:VEVENT
DTSTART;TZID=Asia/Kolkata:20301103T090000
DTEND;TZID=Asia/Kolkata:20301103T110000
DTSTAMP:20260425T142220
CREATED:20231225T083455Z
LAST-MODIFIED:20260221T034851Z
UID:10004066-1919926800-1919934000@www.wicc.co.in
SUMMARY:Malayalam Sunday Service
DESCRIPTION:Watch Now\n‎ \nJoin In-Person\n\n 
URL:https://www.wicc.co.in/event/malayalam-sunday-service-2-2/2030-11-03/
LOCATION:World Impact Centre\, TC 10/1052/1\, World Impact Centre Chittoorkonam Road\, Mankaram\, PO\, Powdikonam\, Thiruvananthapuram\, Kerala\, 695588\, India
ATTACH;FMTTYPE=image/jpeg:https://www.wicc.co.in/wp-content/uploads/2023/03/mal.jpg
END:VEVENT
BEGIN:VEVENT
DTSTART;TZID=Asia/Kolkata:20301103T113000
DTEND;TZID=Asia/Kolkata:20301103T130000
DTSTAMP:20260425T142220
CREATED:20260325T044124Z
LAST-MODIFIED:20260325T044126Z
UID:10004034-1919935800-1919941200@www.wicc.co.in
SUMMARY:English Sunday Service
DESCRIPTION:Watch Now\n‎ \nJoin In-Person\n\n 
URL:https://www.wicc.co.in/event/english-sunday-service-2-2-2-2/2030-11-03/
LOCATION:World Impact Centre\, TC 10/1052/1\, World Impact Centre Chittoorkonam Road\, Mankaram\, PO\, Powdikonam\, Thiruvananthapuram\, Kerala\, 695588\, India
ATTACH;FMTTYPE=image/jpeg:https://www.wicc.co.in/wp-content/uploads/2023/03/eng.jpg
END:VEVENT
BEGIN:VEVENT
DTSTART;TZID=Asia/Kolkata:20301110T090000
DTEND;TZID=Asia/Kolkata:20301110T110000
DTSTAMP:20260425T142220
CREATED:20231225T083455Z
LAST-MODIFIED:20260221T034851Z
UID:10004067-1920531600-1920538800@www.wicc.co.in
SUMMARY:Malayalam Sunday Service
DESCRIPTION:Watch Now\n‎ \nJoin In-Person\n\n 
URL:https://www.wicc.co.in/event/malayalam-sunday-service-2-2/2030-11-10/
LOCATION:World Impact Centre\, TC 10/1052/1\, World Impact Centre Chittoorkonam Road\, Mankaram\, PO\, Powdikonam\, Thiruvananthapuram\, Kerala\, 695588\, India
ATTACH;FMTTYPE=image/jpeg:https://www.wicc.co.in/wp-content/uploads/2023/03/mal.jpg
END:VEVENT
BEGIN:VEVENT
DTSTART;TZID=Asia/Kolkata:20301110T113000
DTEND;TZID=Asia/Kolkata:20301110T130000
DTSTAMP:20260425T142220
CREATED:20260325T044124Z
LAST-MODIFIED:20260325T044126Z
UID:10004035-1920540600-1920546000@www.wicc.co.in
SUMMARY:English Sunday Service
DESCRIPTION:Watch Now\n‎ \nJoin In-Person\n\n 
URL:https://www.wicc.co.in/event/english-sunday-service-2-2-2-2/2030-11-10/
LOCATION:World Impact Centre\, TC 10/1052/1\, World Impact Centre Chittoorkonam Road\, Mankaram\, PO\, Powdikonam\, Thiruvananthapuram\, Kerala\, 695588\, India
ATTACH;FMTTYPE=image/jpeg:https://www.wicc.co.in/wp-content/uploads/2023/03/eng.jpg
END:VEVENT
BEGIN:VEVENT
DTSTART;TZID=Asia/Kolkata:20301117T090000
DTEND;TZID=Asia/Kolkata:20301117T110000
DTSTAMP:20260425T142220
CREATED:20231225T083455Z
LAST-MODIFIED:20260221T034851Z
UID:10004068-1921136400-1921143600@www.wicc.co.in
SUMMARY:Malayalam Sunday Service
DESCRIPTION:Watch Now\n‎ \nJoin In-Person\n\n 
URL:https://www.wicc.co.in/event/malayalam-sunday-service-2-2/2030-11-17/
LOCATION:World Impact Centre\, TC 10/1052/1\, World Impact Centre Chittoorkonam Road\, Mankaram\, PO\, Powdikonam\, Thiruvananthapuram\, Kerala\, 695588\, India
ATTACH;FMTTYPE=image/jpeg:https://www.wicc.co.in/wp-content/uploads/2023/03/mal.jpg
END:VEVENT
BEGIN:VEVENT
DTSTART;TZID=Asia/Kolkata:20301117T113000
DTEND;TZID=Asia/Kolkata:20301117T130000
DTSTAMP:20260425T142220
CREATED:20260325T044124Z
LAST-MODIFIED:20260325T044126Z
UID:10004036-1921145400-1921150800@www.wicc.co.in
SUMMARY:English Sunday Service
DESCRIPTION:Watch Now\n‎ \nJoin In-Person\n\n 
URL:https://www.wicc.co.in/event/english-sunday-service-2-2-2-2/2030-11-17/
LOCATION:World Impact Centre\, TC 10/1052/1\, World Impact Centre Chittoorkonam Road\, Mankaram\, PO\, Powdikonam\, Thiruvananthapuram\, Kerala\, 695588\, India
ATTACH;FMTTYPE=image/jpeg:https://www.wicc.co.in/wp-content/uploads/2023/03/eng.jpg
END:VEVENT
BEGIN:VEVENT
DTSTART;TZID=Asia/Kolkata:20301124T090000
DTEND;TZID=Asia/Kolkata:20301124T110000
DTSTAMP:20260425T142220
CREATED:20231225T083455Z
LAST-MODIFIED:20260221T034851Z
UID:10004069-1921741200-1921748400@www.wicc.co.in
SUMMARY:Malayalam Sunday Service
DESCRIPTION:Watch Now\n‎ \nJoin In-Person\n\n 
URL:https://www.wicc.co.in/event/malayalam-sunday-service-2-2/2030-11-24/
LOCATION:World Impact Centre\, TC 10/1052/1\, World Impact Centre Chittoorkonam Road\, Mankaram\, PO\, Powdikonam\, Thiruvananthapuram\, Kerala\, 695588\, India
ATTACH;FMTTYPE=image/jpeg:https://www.wicc.co.in/wp-content/uploads/2023/03/mal.jpg
END:VEVENT
BEGIN:VEVENT
DTSTART;TZID=Asia/Kolkata:20301124T113000
DTEND;TZID=Asia/Kolkata:20301124T130000
DTSTAMP:20260425T142220
CREATED:20260325T044124Z
LAST-MODIFIED:20260325T044126Z
UID:10004037-1921750200-1921755600@www.wicc.co.in
SUMMARY:English Sunday Service
DESCRIPTION:Watch Now\n‎ \nJoin In-Person\n\n 
URL:https://www.wicc.co.in/event/english-sunday-service-2-2-2-2/2030-11-24/
LOCATION:World Impact Centre\, TC 10/1052/1\, World Impact Centre Chittoorkonam Road\, Mankaram\, PO\, Powdikonam\, Thiruvananthapuram\, Kerala\, 695588\, India
ATTACH;FMTTYPE=image/jpeg:https://www.wicc.co.in/wp-content/uploads/2023/03/eng.jpg
END:VEVENT
BEGIN:VEVENT
DTSTART;TZID=Asia/Kolkata:20301201T090000
DTEND;TZID=Asia/Kolkata:20301201T110000
DTSTAMP:20260425T142220
CREATED:20231225T083455Z
LAST-MODIFIED:20260221T034851Z
UID:10004070-1922346000-1922353200@www.wicc.co.in
SUMMARY:Malayalam Sunday Service
DESCRIPTION:Watch Now\n‎ \nJoin In-Person\n\n 
URL:https://www.wicc.co.in/event/malayalam-sunday-service-2-2/2030-12-01/
LOCATION:World Impact Centre\, TC 10/1052/1\, World Impact Centre Chittoorkonam Road\, Mankaram\, PO\, Powdikonam\, Thiruvananthapuram\, Kerala\, 695588\, India
ATTACH;FMTTYPE=image/jpeg:https://www.wicc.co.in/wp-content/uploads/2023/03/mal.jpg
END:VEVENT
BEGIN:VEVENT
DTSTART;TZID=Asia/Kolkata:20301201T113000
DTEND;TZID=Asia/Kolkata:20301201T130000
DTSTAMP:20260425T142220
CREATED:20260325T044124Z
LAST-MODIFIED:20260325T044126Z
UID:10004038-1922355000-1922360400@www.wicc.co.in
SUMMARY:English Sunday Service
DESCRIPTION:Watch Now\n‎ \nJoin In-Person\n\n 
URL:https://www.wicc.co.in/event/english-sunday-service-2-2-2-2/2030-12-01/
LOCATION:World Impact Centre\, TC 10/1052/1\, World Impact Centre Chittoorkonam Road\, Mankaram\, PO\, Powdikonam\, Thiruvananthapuram\, Kerala\, 695588\, India
ATTACH;FMTTYPE=image/jpeg:https://www.wicc.co.in/wp-content/uploads/2023/03/eng.jpg
END:VEVENT
BEGIN:VEVENT
DTSTART;TZID=Asia/Kolkata:20301208T090000
DTEND;TZID=Asia/Kolkata:20301208T110000
DTSTAMP:20260425T142220
CREATED:20231225T083455Z
LAST-MODIFIED:20260221T034851Z
UID:10004071-1922950800-1922958000@www.wicc.co.in
SUMMARY:Malayalam Sunday Service
DESCRIPTION:Watch Now\n‎ \nJoin In-Person\n\n 
URL:https://www.wicc.co.in/event/malayalam-sunday-service-2-2/2030-12-08/
LOCATION:World Impact Centre\, TC 10/1052/1\, World Impact Centre Chittoorkonam Road\, Mankaram\, PO\, Powdikonam\, Thiruvananthapuram\, Kerala\, 695588\, India
ATTACH;FMTTYPE=image/jpeg:https://www.wicc.co.in/wp-content/uploads/2023/03/mal.jpg
END:VEVENT
BEGIN:VEVENT
DTSTART;TZID=Asia/Kolkata:20301208T113000
DTEND;TZID=Asia/Kolkata:20301208T130000
DTSTAMP:20260425T142220
CREATED:20260325T044124Z
LAST-MODIFIED:20260325T044126Z
UID:10004039-1922959800-1922965200@www.wicc.co.in
SUMMARY:English Sunday Service
DESCRIPTION:Watch Now\n‎ \nJoin In-Person\n\n 
URL:https://www.wicc.co.in/event/english-sunday-service-2-2-2-2/2030-12-08/
LOCATION:World Impact Centre\, TC 10/1052/1\, World Impact Centre Chittoorkonam Road\, Mankaram\, PO\, Powdikonam\, Thiruvananthapuram\, Kerala\, 695588\, India
ATTACH;FMTTYPE=image/jpeg:https://www.wicc.co.in/wp-content/uploads/2023/03/eng.jpg
END:VEVENT
BEGIN:VEVENT
DTSTART;TZID=Asia/Kolkata:20301215T090000
DTEND;TZID=Asia/Kolkata:20301215T110000
DTSTAMP:20260425T142220
CREATED:20231225T083455Z
LAST-MODIFIED:20260221T034851Z
UID:10004072-1923555600-1923562800@www.wicc.co.in
SUMMARY:Malayalam Sunday Service
DESCRIPTION:Watch Now\n‎ \nJoin In-Person\n\n 
URL:https://www.wicc.co.in/event/malayalam-sunday-service-2-2/2030-12-15/
LOCATION:World Impact Centre\, TC 10/1052/1\, World Impact Centre Chittoorkonam Road\, Mankaram\, PO\, Powdikonam\, Thiruvananthapuram\, Kerala\, 695588\, India
ATTACH;FMTTYPE=image/jpeg:https://www.wicc.co.in/wp-content/uploads/2023/03/mal.jpg
END:VEVENT
BEGIN:VEVENT
DTSTART;TZID=Asia/Kolkata:20301215T113000
DTEND;TZID=Asia/Kolkata:20301215T130000
DTSTAMP:20260425T142220
CREATED:20260325T044124Z
LAST-MODIFIED:20260325T044126Z
UID:10004040-1923564600-1923570000@www.wicc.co.in
SUMMARY:English Sunday Service
DESCRIPTION:Watch Now\n‎ \nJoin In-Person\n\n 
URL:https://www.wicc.co.in/event/english-sunday-service-2-2-2-2/2030-12-15/
LOCATION:World Impact Centre\, TC 10/1052/1\, World Impact Centre Chittoorkonam Road\, Mankaram\, PO\, Powdikonam\, Thiruvananthapuram\, Kerala\, 695588\, India
ATTACH;FMTTYPE=image/jpeg:https://www.wicc.co.in/wp-content/uploads/2023/03/eng.jpg
END:VEVENT
BEGIN:VEVENT
DTSTART;TZID=Asia/Kolkata:20301222T090000
DTEND;TZID=Asia/Kolkata:20301222T110000
DTSTAMP:20260425T142220
CREATED:20231225T083455Z
LAST-MODIFIED:20260221T034851Z
UID:10004073-1924160400-1924167600@www.wicc.co.in
SUMMARY:Malayalam Sunday Service
DESCRIPTION:Watch Now\n‎ \nJoin In-Person\n\n 
URL:https://www.wicc.co.in/event/malayalam-sunday-service-2-2/2030-12-22/
LOCATION:World Impact Centre\, TC 10/1052/1\, World Impact Centre Chittoorkonam Road\, Mankaram\, PO\, Powdikonam\, Thiruvananthapuram\, Kerala\, 695588\, India
ATTACH;FMTTYPE=image/jpeg:https://www.wicc.co.in/wp-content/uploads/2023/03/mal.jpg
END:VEVENT
BEGIN:VEVENT
DTSTART;TZID=Asia/Kolkata:20301222T113000
DTEND;TZID=Asia/Kolkata:20301222T130000
DTSTAMP:20260425T142220
CREATED:20260325T044124Z
LAST-MODIFIED:20260325T044126Z
UID:10004041-1924169400-1924174800@www.wicc.co.in
SUMMARY:English Sunday Service
DESCRIPTION:Watch Now\n‎ \nJoin In-Person\n\n 
URL:https://www.wicc.co.in/event/english-sunday-service-2-2-2-2/2030-12-22/
LOCATION:World Impact Centre\, TC 10/1052/1\, World Impact Centre Chittoorkonam Road\, Mankaram\, PO\, Powdikonam\, Thiruvananthapuram\, Kerala\, 695588\, India
ATTACH;FMTTYPE=image/jpeg:https://www.wicc.co.in/wp-content/uploads/2023/03/eng.jpg
END:VEVENT
BEGIN:VEVENT
DTSTART;TZID=Asia/Kolkata:20301229T090000
DTEND;TZID=Asia/Kolkata:20301229T110000
DTSTAMP:20260425T142220
CREATED:20231225T083455Z
LAST-MODIFIED:20260221T034851Z
UID:10004074-1924765200-1924772400@www.wicc.co.in
SUMMARY:Malayalam Sunday Service
DESCRIPTION:Watch Now\n‎ \nJoin In-Person\n\n 
URL:https://www.wicc.co.in/event/malayalam-sunday-service-2-2/2030-12-29/
LOCATION:World Impact Centre\, TC 10/1052/1\, World Impact Centre Chittoorkonam Road\, Mankaram\, PO\, Powdikonam\, Thiruvananthapuram\, Kerala\, 695588\, India
ATTACH;FMTTYPE=image/jpeg:https://www.wicc.co.in/wp-content/uploads/2023/03/mal.jpg
END:VEVENT
BEGIN:VEVENT
DTSTART;TZID=Asia/Kolkata:20301229T113000
DTEND;TZID=Asia/Kolkata:20301229T130000
DTSTAMP:20260425T142220
CREATED:20260325T044124Z
LAST-MODIFIED:20260325T044126Z
UID:10004042-1924774200-1924779600@www.wicc.co.in
SUMMARY:English Sunday Service
DESCRIPTION:Watch Now\n‎ \nJoin In-Person\n\n 
URL:https://www.wicc.co.in/event/english-sunday-service-2-2-2-2/2030-12-29/
LOCATION:World Impact Centre\, TC 10/1052/1\, World Impact Centre Chittoorkonam Road\, Mankaram\, PO\, Powdikonam\, Thiruvananthapuram\, Kerala\, 695588\, India
ATTACH;FMTTYPE=image/jpeg:https://www.wicc.co.in/wp-content/uploads/2023/03/eng.jpg
END:VEVENT
BEGIN:VEVENT
DTSTART;TZID=Asia/Kolkata:20310105T090000
DTEND;TZID=Asia/Kolkata:20310105T110000
DTSTAMP:20260425T142220
CREATED:20231225T083455Z
LAST-MODIFIED:20260221T034851Z
UID:10004075-1925370000-1925377200@www.wicc.co.in
SUMMARY:Malayalam Sunday Service
DESCRIPTION:Watch Now\n‎ \nJoin In-Person\n\n 
URL:https://www.wicc.co.in/event/malayalam-sunday-service-2-2/2031-01-05/
LOCATION:World Impact Centre\, TC 10/1052/1\, World Impact Centre Chittoorkonam Road\, Mankaram\, PO\, Powdikonam\, Thiruvananthapuram\, Kerala\, 695588\, India
ATTACH;FMTTYPE=image/jpeg:https://www.wicc.co.in/wp-content/uploads/2023/03/mal.jpg
END:VEVENT
BEGIN:VEVENT
DTSTART;TZID=Asia/Kolkata:20310105T113000
DTEND;TZID=Asia/Kolkata:20310105T130000
DTSTAMP:20260425T142220
CREATED:20260325T044124Z
LAST-MODIFIED:20260325T044126Z
UID:10004043-1925379000-1925384400@www.wicc.co.in
SUMMARY:English Sunday Service
DESCRIPTION:Watch Now\n‎ \nJoin In-Person\n\n 
URL:https://www.wicc.co.in/event/english-sunday-service-2-2-2-2/2031-01-05/
LOCATION:World Impact Centre\, TC 10/1052/1\, World Impact Centre Chittoorkonam Road\, Mankaram\, PO\, Powdikonam\, Thiruvananthapuram\, Kerala\, 695588\, India
ATTACH;FMTTYPE=image/jpeg:https://www.wicc.co.in/wp-content/uploads/2023/03/eng.jpg
END:VEVENT
BEGIN:VEVENT
DTSTART;TZID=Asia/Kolkata:20310112T090000
DTEND;TZID=Asia/Kolkata:20310112T110000
DTSTAMP:20260425T142220
CREATED:20231225T083455Z
LAST-MODIFIED:20260221T034851Z
UID:10004076-1925974800-1925982000@www.wicc.co.in
SUMMARY:Malayalam Sunday Service
DESCRIPTION:Watch Now\n‎ \nJoin In-Person\n\n 
URL:https://www.wicc.co.in/event/malayalam-sunday-service-2-2/2031-01-12/
LOCATION:World Impact Centre\, TC 10/1052/1\, World Impact Centre Chittoorkonam Road\, Mankaram\, PO\, Powdikonam\, Thiruvananthapuram\, Kerala\, 695588\, India
ATTACH;FMTTYPE=image/jpeg:https://www.wicc.co.in/wp-content/uploads/2023/03/mal.jpg
END:VEVENT
BEGIN:VEVENT
DTSTART;TZID=Asia/Kolkata:20310112T113000
DTEND;TZID=Asia/Kolkata:20310112T130000
DTSTAMP:20260425T142220
CREATED:20260325T044124Z
LAST-MODIFIED:20260325T044126Z
UID:10004044-1925983800-1925989200@www.wicc.co.in
SUMMARY:English Sunday Service
DESCRIPTION:Watch Now\n‎ \nJoin In-Person\n\n 
URL:https://www.wicc.co.in/event/english-sunday-service-2-2-2-2/2031-01-12/
LOCATION:World Impact Centre\, TC 10/1052/1\, World Impact Centre Chittoorkonam Road\, Mankaram\, PO\, Powdikonam\, Thiruvananthapuram\, Kerala\, 695588\, India
ATTACH;FMTTYPE=image/jpeg:https://www.wicc.co.in/wp-content/uploads/2023/03/eng.jpg
END:VEVENT
BEGIN:VEVENT
DTSTART;TZID=Asia/Kolkata:20310119T090000
DTEND;TZID=Asia/Kolkata:20310119T110000
DTSTAMP:20260425T142220
CREATED:20231225T083455Z
LAST-MODIFIED:20260221T034851Z
UID:10004077-1926579600-1926586800@www.wicc.co.in
SUMMARY:Malayalam Sunday Service
DESCRIPTION:Watch Now\n‎ \nJoin In-Person\n\n 
URL:https://www.wicc.co.in/event/malayalam-sunday-service-2-2/2031-01-19/
LOCATION:World Impact Centre\, TC 10/1052/1\, World Impact Centre Chittoorkonam Road\, Mankaram\, PO\, Powdikonam\, Thiruvananthapuram\, Kerala\, 695588\, India
ATTACH;FMTTYPE=image/jpeg:https://www.wicc.co.in/wp-content/uploads/2023/03/mal.jpg
END:VEVENT
BEGIN:VEVENT
DTSTART;TZID=Asia/Kolkata:20310119T113000
DTEND;TZID=Asia/Kolkata:20310119T130000
DTSTAMP:20260425T142220
CREATED:20260325T044124Z
LAST-MODIFIED:20260325T044126Z
UID:10004045-1926588600-1926594000@www.wicc.co.in
SUMMARY:English Sunday Service
DESCRIPTION:Watch Now\n‎ \nJoin In-Person\n\n 
URL:https://www.wicc.co.in/event/english-sunday-service-2-2-2-2/2031-01-19/
LOCATION:World Impact Centre\, TC 10/1052/1\, World Impact Centre Chittoorkonam Road\, Mankaram\, PO\, Powdikonam\, Thiruvananthapuram\, Kerala\, 695588\, India
ATTACH;FMTTYPE=image/jpeg:https://www.wicc.co.in/wp-content/uploads/2023/03/eng.jpg
END:VEVENT
END:VCALENDAR