BEGIN:VCALENDAR
VERSION:2.0
PRODID:-//World Impact Community Church - ECPv6.0.13.1//NONSGML v1.0//EN
CALSCALE:GREGORIAN
METHOD:PUBLISH
X-ORIGINAL-URL:https://www.wicc.co.in
X-WR-CALDESC:Events for World Impact Community Church
REFRESH-INTERVAL;VALUE=DURATION:PT1H
X-Robots-Tag:noindex
X-PUBLISHED-TTL:PT1H
BEGIN:VTIMEZONE
TZID:Asia/Kolkata
BEGIN:STANDARD
TZOFFSETFROM:+0530
TZOFFSETTO:+0530
TZNAME:IST
DTSTART:20240101T000000
END:STANDARD
END:VTIMEZONE
BEGIN:VEVENT
DTSTART;TZID=Asia/Kolkata:20240511T090000
DTEND;TZID=Asia/Kolkata:20240511T170000
DTSTAMP:20260422T082016
CREATED:20240426T090220Z
LAST-MODIFIED:20240426T113630Z
UID:10003865-1715418000-1715446800@www.wicc.co.in
SUMMARY:NOW QUESTOPIA
DESCRIPTION:Attention all Explorers! 🎙📢\nIt is time to engage in an expedition like no other 🔦🔍\nWelcome to QUESTOPIA\, a one day adventure designed to raise conquerors out of us all. Together we will endure and overcome 💪🏽🏆 \nEmbrace the challenge with us.\nLET THE GAME BEGIN! 🚩🗝 \nWho is it for? 🤷‍♂\nAnyone from the ages of 13 to 25\nWhen? ⏰\n11th May 2024 from 09:00 AM to 05:00 PM\nWhere? 🧭\nWorld Impact Centre\, Trivandrum\nWorld Impact Centre Location \nLimited gamer seats available 🎟\nHurry up & Register Here: 🎯\nNOW Questopia \nLast day for registration is 6th May 2024\nFor any queries\, contact Benny (+91 9985948757) or Asher (+91 9746283493) 📱📲
URL:https://www.wicc.co.in/event/now-questopia/
LOCATION:World Impact Centre\, TC 10/1052/1\, World Impact Centre Chittoorkonam Road\, Mankaram\, PO\, Powdikonam\, Thiruvananthapuram\, Kerala\, 695588\, India
ATTACH;FMTTYPE=image/jpeg:https://www.wicc.co.in/wp-content/uploads/2024/04/NOW-Questopia.jpg
END:VEVENT
END:VCALENDAR